Workbook

Sheet 総括表
B1: 令和6年度 財政状況資料集
B2: 総括表（市町村）
B3: 都道府県名 | L3: 石川県 | W3: 市町村類型 | AC3: Ⅱ－３ | AM3: 指定団体等の指定状況 | AY3: 区分 | BN3: 令和6年度(千円) | BV3: 令和5年度(千円) | CD3: 区分 | CT3: 令和6年度(千円･％) | DB3: 令和5年度(千円･％)
AY4: 歳入総額 | BN4: 25038460 | BV4: 22038006 | CD4: 実質収支比率 | CT4: 3.9 | DB4: 3.8
AM5: 財政健全化等 | AU5: × | AY5: 歳出総額 | BN5: 24418495 | BV5: 21404774 | CD5: 経常収支比率 | CT5: 93.9 | DB5: 94
B6: 市町村名 | L6: 野々市市 | W6: 地方交付税種地 | AC6: 1-4 | AM6: 財源超過 | AU6: × | AY6: 歳入歳出差引 | BN6: 619965 | BV6: 633232 | CD6: (※1) | CT6: 94.4 | DB6: 95.1
AM7: 首都 | AU7: × | AY7: 翌年度に繰越すべき財源 | BN7: 124022 | BV7: 171560 | CD7: 標準財政規模 | CT7: 12588777 | DB7: 12215237
AM8: 近畿 | AU8: × | AY8: 実質収支 | BN8: 495943 | BV8: 461672 | CD8: 財政力指数 | CT8: 0.78 | DB8: 0.78
B9: 人口 | L9: 令和2年国調(人) | R9: 57238 | W9: 産業構造 (※5) | AM9: 中部 | AU9: ○ | AY9: 単年度収支 | BN9: 34271 | BV9: -94046 | CD9: 公債費負担比率 | CT9: 11.8 | DB9: 12.6
L10: 平成27年国調(人) | R10: 55099 | AM10: 過疎 | AU10: × | AY10: 積立金 | BN10: 2580 | BV10: 2889 | CD10: 健全化判断比率
L11: 増減率 (％) | R11: 3.9 | AM11: 山振 | AU11: × | AY11: 繰上償還金 | BN11: 0 | BV11: 0 | CD11: 実質赤字比率 | CT11: - | DB11: -
B12: 住民基本台帳人口 (※7) | L12: 令07.01.01(人) | R12: 54583 | W12: 区分 | AC12: 令和2年国調 | AH12: 平成27年国調 | AM12: 低開発 | AU12: × | AY12: 積立金取崩し額 | BN12: 200000 | BV12: 300000 | CD12: 連結実質赤字比率 | CT12: - | DB12: -
M13: うち日本人(人) | R13: 53874 | W13: 第1次 | AC13: 304 | AH13: 289 | AM13: 指数表選定 | AU13: ○ | AY13: 実質単年度収支 | BN13: -163149 | BV13: -391157 | CD13: 実質公債費比率 | CT13: 6.1 | DB13: 6.7
L14: 令06.01.01(人) | R14: 54163 | AC14: 1.1 | AH14: 1.1 | CD14: 将来負担比率 | CT14: 1.6 | DB14: -
M15: うち日本人(人) | R15: 53536 | W15: 第2次 | AC15: 7498 | AH15: 7352 | AY15: 基準財政収入額 | BN15: 7978509 | BV15: 7753657 | CD15: 資金不足比率 (※4)
L16: 増減率 (％) | R16: 0.8 | AC16: 26.8 | AH16: 28.2 | AY16: 基準財政需要額 | BN16: 10396845 | BV16: 10038001
M17: うち日本人(％) | R17: 0.6 | W17: 第3次 | AC17: 20203 | AH17: 18411 | AY17: 標準税収入額等 | BN17: 10091844 | BV17: 9787141
B18: 面積 (k㎡) | L18: 13.56 | AC18: 72.1 | AH18: 70.7 | AY18: 経常経費充当一般財源等 | BN18: 12272796 | BV18: 11769228
B19: 人口密度 (人/k㎡) | L19: 4221 | AY19: 歳入一般財源等 | BN19: 15426836 | BV19: 14950855
B20: 世帯数 (世帯) | L20: 26200
B21: 職員の状況 (※8)
B22: 特別職等 | E22: 区分 | L22: 定数 | Q22: 1人あたり平均 給料月額(百円) | W22: 一般職員等(※6) | Z22: 区分 | AH22: 職員数 (人) | AM22: 給料月額 (百円) | AS22: 1人あたり平均 給料月額(百円) | AY22: 地方債現在高 | BN22: 18913562 | BV22: 18026477
AY23: うち公的資金 | BN23: 12545956 | BV23: 13723760
E24: 市区町村長 | L24: 1 | Q24: 8800 | Z24: 一般職員 | AH24: 305 | AM24: 930250 | AS24: 3050 | AY24: 地方債現在高（臨時財政対策債除き） | BN24: 11347115 | BV24: 9762482
E25: 副市区町村長 | L25: 1 | Q25: 7080 | Z25: うち消防職員 | AH25: - | AM25: - | AS25: - | AY25: 債務負担行為額（支出予定額） | BN25: 3465064 | BV25: 5591351
E26: 教育長 | L26: 1 | Q26: 6590 | Z26: うち技能労務職員 | AH26: 5 | AM26: 14275 | AS26: 2855 | AY26: 収益事業収入 | BN26: - | BV26: -
E27: 議会議長 | L27: 1 | Q27: 4800 | Z27: 教育公務員 | AH27: 2 | AM27: * | AS27: * | AY27: 土地開発基金現在高 | BN27: 15690 | BV27: 15690
E28: 議会副議長 | L28: 1 | Q28: 4000 | Z28: 臨時職員 | AH28: - | AM28: - | AS28: - | AY28: 積立金 現在高 | BC28: 財政調整基金 | BN28: 2309605 | BV28: 2277025
E29: 議会議員 | L29: 13 | Q29: 3800 | Z29: 合計 | AH29: 307 | AM29: 938140 | AS29: 3056 | BC29: 減債基金 | BN29: 455605 | BV29: 480287
W30: ラスパイレス指数 | AH30: 97 | BC30: その他特定目的基金 | BN30: 1577284 | BV30: 1448964
C32: 一般会計等の一覧 | U32: 事業会計の一覧 | AM32: 公営企業（法適）の一覧 | BE32: 公営企業（法非適）の一覧 | BW32: 関係する一部事務組合等一覧 | CO32: 地方公社・第三セクター等一覧
C33: 項番 | E33: 会計名 | U33: 項番 | W33: 会計名 | AM33: 項番 | AO33: 会計名 | BE33: 項番 | BG33: 会計名 | BW33: 項番 | BY33: 組合等名 | CO33: 項番 | CQ33: 団体名 | DG33: (※3)
C34: =IF(E34="","",1) -> 1 | E34: =IF('各会計、関係団体の財政状況及び健全化判断比率'!B7="","",'各会計、関係団体の財政状況及び健全化判断比率'!B7) -> 一般会計 | U34: =IF(W34="","",MAX(C34:D43)+1) -> 2 | W34: =IF('各会計、関係団体の財政状況及び健全化判断比率'!B28="","",'各会計、関係団体の財政状況及び健全化判断比率'!B28) -> 国民健康保険特別会計 | AM34: =IF(AO34="","",MAX(C34:D43,U34:V43)+1) -> 5 | AO34: =IF('各会計、関係団体の財政状況及び健全化判断比率'!B31="","",'各会計、関係団体の財政状況及び健全化判断比率'!B31) -> 水道事業会計 | BE34: =IF(BG34="","",MAX(C34:D43,U34:V43,AM34:AN43)+1) | BW34: =IF(BY34="","",MAX(C34:D43,U34:V43,AM34:AN43,BE34:BF43)+1) | BY34: =IF('各会計、関係団体の財政状況及び健全化判断比率'!B68="","",'各会計、関係団体の財政状況及び健全化判断比率'!B68) | CO34: =IF(CQ34="","",MAX(C34:D43,U34:V43,AM34:AN43,BE34:BF43,BW34:BX43)+1) | CQ34: =IF('各会計、関係団体の財政状況及び健全化判断比率'!BS7="","",'各会計、関係団体の財政状況及び健全化判断比率'!BS7) | DG34: =IF('各会計、関係団体の財政状況及び健全化判断比率'!BR7="","",'各会計、関係団体の財政状況及び健全化判断比率'!BR7)
C35: =IF(E35="","",C34+1) | E35: =IF('各会計、関係団体の財政状況及び健全化判断比率'!B8="","",'各会計、関係団体の財政状況及び健全化判断比率'!B8) | U35: =IF(W35="","",U34+1) -> 3 | W35: =IF('各会計、関係団体の財政状況及び健全化判断比率'!B29="","",'各会計、関係団体の財政状況及び健全化判断比率'!B29) -> 介護保険特別会計 | AM35: =IF(AO35="","",AM34+1) -> 6 | AO35: =IF('各会計、関係団体の財政状況及び健全化判断比率'!B32="","",'各会計、関係団体の財政状況及び健全化判断比率'!B32) -> 公共下水道事業会計 | BE35: =IF(BG35="","",BE34+1) | BW35: =IF(BY35="","",BW34+1) | BY35: =IF('各会計、関係団体の財政状況及び健全化判断比率'!B69="","",'各会計、関係団体の財政状況及び健全化判断比率'!B69) | CO35: =IF(CQ35="","",CO34+1) | CQ35: =IF('各会計、関係団体の財政状況及び健全化判断比率'!BS8="","",'各会計、関係団体の財政状況及び健全化判断比率'!BS8) | DG35: =IF('各会計、関係団体の財政状況及び健全化判断比率'!BR8="","",'各会計、関係団体の財政状況及び健全化判断比率'!BR8)
C36: =IF(E36="","",C35+1) | E36: =IF('各会計、関係団体の財政状況及び健全化判断比率'!B9="","",'各会計、関係団体の財政状況及び健全化判断比率'!B9) | U36: =IF(W36="","",U35+1) -> 4 | W36: =IF('各会計、関係団体の財政状況及び健全化判断比率'!B30="","",'各会計、関係団体の財政状況及び健全化判断比率'!B30) -> 後期高齢者医療特別会計 | AM36: =IF(AO36="","",AM35+1) | BE36: =IF(BG36="","",BE35+1) | BW36: =IF(BY36="","",BW35+1) | BY36: =IF('各会計、関係団体の財政状況及び健全化判断比率'!B70="","",'各会計、関係団体の財政状況及び健全化判断比率'!B70) | CO36: =IF(CQ36="","",CO35+1) | CQ36: =IF('各会計、関係団体の財政状況及び健全化判断比率'!BS9="","",'各会計、関係団体の財政状況及び健全化判断比率'!BS9) | DG36: =IF('各会計、関係団体の財政状況及び健全化判断比率'!BR9="","",'各会計、関係団体の財政状況及び健全化判断比率'!BR9)
C37: =IF(E37="","",C36+1) | E37: =IF('各会計、関係団体の財政状況及び健全化判断比率'!B10="","",'各会計、関係団体の財政状況及び健全化判断比率'!B10) | U37: =IF(W37="","",U36+1) | AM37: =IF(AO37="","",AM36+1) | BE37: =IF(BG37="","",BE36+1) | BW37: =IF(BY37="","",BW36+1) | BY37: =IF('各会計、関係団体の財政状況及び健全化判断比率'!B71="","",'各会計、関係団体の財政状況及び健全化判断比率'!B71) | CO37: =IF(CQ37="","",CO36+1) | CQ37: =IF('各会計、関係団体の財政状況及び健全化判断比率'!BS10="","",'各会計、関係団体の財政状況及び健全化判断比率'!BS10) | DG37: =IF('各会計、関係団体の財政状況及び健全化判断比率'!BR10="","",'各会計、関係団体の財政状況及び健全化判断比率'!BR10)
C38: =IF(E38="","",C37+1) | E38: =IF('各会計、関係団体の財政状況及び健全化判断比率'!B11="","",'各会計、関係団体の財政状況及び健全化判断比率'!B11) | U38: =IF(W38="","",U37+1) | AM38: =IF(AO38="","",AM37+1) | BE38: =IF(BG38="","",BE37+1) | BW38: =IF(BY38="","",BW37+1) | BY38: =IF('各会計、関係団体の財政状況及び健全化判断比率'!B72="","",'各会計、関係団体の財政状況及び健全化判断比率'!B72) | CO38: =IF(CQ38="","",CO37+1) | CQ38: =IF('各会計、関係団体の財政状況及び健全化判断比率'!BS11="","",'各会計、関係団体の財政状況及び健全化判断比率'!BS11) | DG38: =IF('各会計、関係団体の財政状況及び健全化判断比率'!BR11="","",'各会計、関係団体の財政状況及び健全化判断比率'!BR11)
C39: =IF(E39="","",C38+1) | E39: =IF('各会計、関係団体の財政状況及び健全化判断比率'!B12="","",'各会計、関係団体の財政状況及び健全化判断比率'!B12) | U39: =IF(W39="","",U38+1) | AM39: =IF(AO39="","",AM38+1) | BE39: =IF(BG39="","",BE38+1) | BW39: =IF(BY39="","",BW38+1) | BY39: =IF('各会計、関係団体の財政状況及び健全化判断比率'!B73="","",'各会計、関係団体の財政状況及び健全化判断比率'!B73) | CO39: =IF(CQ39="","",CO38+1) | CQ39: =IF('各会計、関係団体の財政状況及び健全化判断比率'!BS12="","",'各会計、関係団体の財政状況及び健全化判断比率'!BS12) | DG39: =IF('各会計、関係団体の財政状況及び健全化判断比率'!BR12="","",'各会計、関係団体の財政状況及び健全化判断比率'!BR12)
C40: =IF(E40="","",C39+1) | E40: =IF('各会計、関係団体の財政状況及び健全化判断比率'!B13="","",'各会計、関係団体の財政状況及び健全化判断比率'!B13) | U40: =IF(W40="","",U39+1) | AM40: =IF(AO40="","",AM39+1) | BE40: =IF(BG40="","",BE39+1) | BW40: =IF(BY40="","",BW39+1) | BY40: =IF('各会計、関係団体の財政状況及び健全化判断比率'!B74="","",'各会計、関係団体の財政状況及び健全化判断比率'!B74) | CO40: =IF(CQ40="","",CO39+1) | CQ40: =IF('各会計、関係団体の財政状況及び健全化判断比率'!BS13="","",'各会計、関係団体の財政状況及び健全化判断比率'!BS13) | DG40: =IF('各会計、関係団体の財政状況及び健全化判断比率'!BR13="","",'各会計、関係団体の財政状況及び健全化判断比率'!BR13)
C41: =IF(E41="","",C40+1) | E41: =IF('各会計、関係団体の財政状況及び健全化判断比率'!B14="","",'各会計、関係団体の財政状況及び健全化判断比率'!B14) | U41: =IF(W41="","",U40+1) | AM41: =IF(AO41="","",AM40+1) | BE41: =IF(BG41="","",BE40+1) | BW41: =IF(BY41="","",BW40+1) | BY41: =IF('各会計、関係団体の財政状況及び健全化判断比率'!B75="","",'各会計、関係団体の財政状況及び健全化判断比率'!B75) | CO41: =IF(CQ41="","",CO40+1) | CQ41: =IF('各会計、関係団体の財政状況及び健全化判断比率'!BS14="","",'各会計、関係団体の財政状況及び健全化判断比率'!BS14) | DG41: =IF('各会計、関係団体の財政状況及び健全化判断比率'!BR14="","",'各会計、関係団体の財政状況及び健全化判断比率'!BR14)
...

Sheet 普通会計の状況
DH1: 令和6年度 | DP1: 石川県野々市市
B2: (1) 普通会計の状況（市町村）
B3: 歳入の状況（単位 千円・％） | AP3: 地方税の状況（単位 千円・％） | CD3: 歳出の状況（単位 千円・％）
B4: 区分 | R4: 決算額 | Z4: 構成比 | AD4: 経常一般財源等 | AL4: 構成比 | AP4: 区分 | BG4: 収入済額 | BO4: 構成比 | BS4: 超過課税分 | CD4: 目的別歳出の状況（単位 千円・％）
B5: 地方税 | R5: 8675796 | Z5: 34.6 | AD5: 8128182 | AL5: 62.5 | AP5: 普通税 | BG5: 8128182 | BO5: 93.7 | BS5: 84739 | CD5: 区分 | CR5: 決算額 (A) | CZ5: 構成比 | DD5: (A)のうち普通建設事業費 | DQ5: (A)のうち充当一般財源等
B6: 地方譲与税 | R6: 149102 | Z6: 0.6 | AD6: 149102 | AL6: 1.1 | AP6: 法定普通税 | BG6: 8128182 | BO6: 93.7 | BS6: 84739 | CD6: 議会費 | CR6: 174239 | CZ6: 0.7 | DD6: - | DQ6: 174239
B7: 利子割交付金 | R7: 4190 | Z7: 0 | AD7: 4190 | AL7: 0 | AP7: 市町村民税 | BG7: 3693188 | BO7: 42.6 | BS7: 84739 | CD7: 総務費 | CR7: 2158838 | CZ7: 8.8 | DD7: 242706 | DQ7: 1751470
B8: 配当割交付金 | R8: 58754 | Z8: 0.2 | AD8: 58754 | AL8: 0.5 | AP8: 個人均等割 | BG8: 92137 | BO8: 1.1 | BS8: - | CD8: 民生費 | CR8: 10363147 | CZ8: 42.4 | DD8: 495991 | DQ8: 4966824
B9: 株式等譲渡所得割交付金 | R9: 89495 | Z9: 0.4 | AD9: 89495 | AL9: 0.7 | AP9: 所得割 | BG9: 3111511 | BO9: 35.9 | BS9: - | CD9: 衛生費 | CR9: 1414594 | CZ9: 5.8 | DD9: 1066 | DQ9: 1279234
B10: 分離課税所得割交付金 | R10: - | Z10: - | AD10: - | AL10: - | AP10: 法人均等割 | BG10: 194184 | BO10: 2.2 | BS10: - | CD10: 労働費 | CR10: 33867 | CZ10: 0.1 | DD10: - | DQ10: 19817
B11: 地方消費税交付金 | R11: 1512278 | Z11: 6 | AD11: 1512278 | AL11: 11.6 | AP11: 法人税割 | BG11: 295356 | BO11: 3.4 | BS11: 84739 | CD11: 農林水産業費 | CR11: 115140 | CZ11: 0.5 | DD11: 68387 | DQ11: 42539
B12: ゴルフ場利用税交付金 | R12: - | Z12: - | AD12: - | AL12: - | AP12: 固定資産税 | BG12: 3759562 | BO12: 43.3 | BS12: - | CD12: 商工費 | CR12: 527850 | CZ12: 2.2 | DD12: 10965 | DQ12: 385626
B13: 自動車取得税交付金 | R13: - | Z13: - | AD13: - | AL13: - | AP13: うち純固定資産税 | BG13: 3733150 | BO13: 43 | BS13: - | CD13: 土木費 | CR13: 1764155 | CZ13: 7.2 | DD13: 821844 | DQ13: 1042495
B14: 軽油引取税交付金 | R14: - | Z14: - | AD14: - | AL14: - | AP14: 軽自動車税 | BG14: 176913 | BO14: 2 | BS14: - | CD14: 消防費 | CR14: 781419 | CZ14: 3.2 | DD14: 18444 | DQ14: 760800
B15: 自動車税環境性能割交付金 | R15: 23587 | Z15: 0.1 | AD15: 23587 | AL15: 0.2 | AP15: 市町村たばこ税 | BG15: 498519 | BO15: 5.7 | BS15: - | CD15: 教育費 | CR15: 5254704 | CZ15: 21.5 | DD15: 2437342 | DQ15: 2641605
B16: 法人事業税交付金 | R16: 162023 | Z16: 0.6 | AD16: 162023 | AL16: 1.2 | AP16: 鉱産税 | BG16: - | BO16: - | BS16: - | CD16: 災害復旧費 | CR16: - | CZ16: - | DD16: - | DQ16: -
B17: 地方特例交付金等 | R17: 333160 | Z17: 1.3 | AD17: 333160 | AL17: 2.6 | AP17: 特別土地保有税 | BG17: - | BO17: - | BS17: - | CD17: 公債費 | CR17: 1830542 | CZ17: 7.5 | DD17: - | DQ17: 1815224
B18: 住宅借入金等特別税額控除減収補塡特例交付金 | R18: 70430 | Z18: 0.3 | AD18: 70430 | AL18: 0.5 | AP18: 法定外普通税 | BG18: - | BO18: - | BS18: - | CD18: 諸支出金 | CR18: - | CZ18: - | DD18: - | DQ18: -
B19: 定額減税減収補塡特例交付金 | R19: 260007 | Z19: 1 | AD19: 260007 | AL19: 2 | AP19: 目的税 | BG19: 547614 | BO19: 6.3 | BS19: - | CD19: 前年度繰上充用金 | CR19: - | CZ19: - | DD19: - | DQ19: -
B20: 新型コロナウイルス感染症対策地方税減収補塡特別交付金 | R20: 2723 | Z20: 0 | AD20: 2723 | AL20: 0 | AP20: 法定目的税 | BG20: 547614 | BO20: 6.3 | BS20: - | CD20: 歳出合計 | CR20: 24418495 | CZ20: 100 | DD20: 4096745 | DQ20: 14879873
B21: 地方交付税 | R21: 2716487 | Z21: 10.8 | AD21: 2434670 | AL21: 18.7 | AP21: 入湯税 | BG21: - | BO21: - | BS21: -
B22: 普通交付税 | R22: 2434670 | Z22: 9.7 | AD22: 2434670 | AL22: 18.7 | AP22: 事業所税 | BG22: - | BO22: - | BS22: - | CD22: 性質別歳出の状況（単位 千円・％）
B23: 特別交付税 | R23: 281817 | Z23: 1.1 | AD23: - | AL23: - | AP23: 都市計画税 | BG23: 547614 | BO23: 6.3 | BS23: - | CD23: 区分 | CR23: 決算額 | CZ23: 構成比 | DD23: 充当一般財源等 | DL23: 経常経費充当一般財源等 | DW23: 経常収支比率
B24: 震災復興特別交付税 | R24: - | Z24: - | AD24: - | AL24: - | AP24: 水利地益税等 | BG24: - | BO24: - | BS24: - | CD24: 義務的経費計 | CR24: 11831106 | CZ24: 48.5 | DD24: 7110047 | DL24: 6471448 | DW24: 49.5
B25: (一般財源計) | R25: 13724872 | Z25: 54.8 | AD25: 12895441 | AL25: 99.2 | AP25: 法定外目的税 | BG25: - | BO25: - | BS25: - | CD25: 人件費 | CR25: 2996051 | CZ25: 12.3 | DD25: 2766821 | DL25: 2712890 | DW25: 20.8
B26: 交通安全対策特別交付金 | R26: 7139 | Z26: 0 | AD26: 7139 | AL26: 0.1 | AP26: 旧法による税 | BG26: - | BO26: - | BS26: - | CD26: うち職員給 | CR26: 1629959 | CZ26: 6.7 | DD26: 1400729 | DL26: - | DW26: -
B27: 分担金・負担金 | R27: 32227 | Z27: 0.1 | AD27: - | AL27: - | AP27: 合計 | BG27: 8675796 | BO27: 100 | BS27: 84739 | CD27: 扶助費 | CR27: 7004513 | CZ27: 28.7 | DD27: 2528002 | DL27: 1943334 | DW27: 14.9
B28: 使用料 | R28: 194289 | Z28: 0.8 | AD28: 76318 | AL28: 0.6 | CD28: 公債費 | CR28: 1830542 | CZ28: 7.5 | DD28: 1815224 | DL28: 1815224 | DW28: 13.9
B29: 手数料 | R29: 21625 | Z29: 0.1 | AD29: - | AL29: - | CD29: 内訳 | CF29: 元利償還金 | CR29: 1830004 | CZ29: 7.5 | DD29: 1814686 | DL29: 1814686 | DW29: 13.9
B30: 国庫支出金 | R30: 4778147 | Z30: 19.1 | AD30: - | AL30: - | AP30: 区分 | BG30: 令和6年度 | BR30: 令和5年度 | CF30: うち元金 | CR30: 1770678 | CZ30: 7.3 | DD30: 1757315 | DL30: 1757315 | DW30: 13.5
B31: 国有提供交付金(特別区財調交付金) | R31: - | Z31: - | AD31: - | AL31: - | AP31: 徴収率 (％) | AT31: 現年 | AX31: 合計 | BG31: 99.2 | BM31: 97.7 | BR31: 98.8 | BX31: 97.4 | CF31: うち利子 | CR31: 59326 | CZ31: 0.2 | DD31: 57371 | DL31: 57371 | DW31: 0.4
B32: 都道府県支出金 | R32: 1799813 | Z32: 7.2 | AD32: - | AL32: - | AU32: ・計 | AX32: 市町村民税 | BG32: 98.7 | BM32: 96.3 | BR32: 98.4 | BX32: 96.2 | CF32: 一時借入金利子 | CR32: 538 | CZ32: 0 | DD32: 538 | DL32: 538 | DW32: 0
B33: 財産収入 | R33: 50923 | Z33: 0.2 | AD33: 23959 | AL33: 0.2 | AX33: 純固定資産税 | BG33: 99.5 | BM33: 98.7 | BR33: 99.1 | BX33: 98.3 | CD33: その他の経費 | CR33: 8490644 | CZ33: 34.8 | DD33: 6960858 | DL33: 5801348 | DW33: 44.4
B34: 寄附金 | R34: 130163 | Z34: 0.5 | AD34: - | AL34: - | CD34: 物件費 | CR34: 3415826 | CZ34: 14 | DD34: 2754104 | DL34: 2369917 | DW34: 18.1
B35: 繰入金 | R35: 602734 | Z35: 2.4 | AD35: - | AL35: - | AQ35: 公営事業等への繰出 | BG35: 国民健康保険事業会計の状況 | CD35: 維持補修費 | CR35: 342420 | CZ35: 1.4 | DD35: 300997 | DL35: 233011 | DW35: 1.8
B36: 繰越金 | R36: 403232 | Z36: 1.6 | AD36: - | AL36: - | AQ36: 合計 | AZ36: 1945080 | BG36: 実質収支 | BV36: 23567 | CD36: 補助費等 | CR36: 2799382 | CZ36: 11.5 | DD36: 2261469 | DL36: 2058988 | DW36: 15.8
B37: 諸収入 | R37: 635533 | Z37: 2.5 | AD37: 101 | AL37: 0 | AQ37: 下水道 | AZ37: 290055 | BG37: 再差引収支 | BV37: 15990 | CD37: うち一部事務組合負担金 | CR37: 1001686 | CZ37: 4.1 | DD37: 1001686 | DL37: 996978 | DW37: 7.6
B38: 地方債 | R38: 2657763 | Z38: 10.6 | AD38: - | AL38: - | AQ38: 病院 | AZ38: 190128 | BG38: 加入世帯数(世帯) | BV38: 5028 | CD38: 繰出金 | CR38: 1444041 | CZ38: 5.9 | DD38: 1162171 | DL38: 1139432 | DW38: 8.7
B39: うち減収補塡債(特例分) | R39: - | Z39: - | AD39: - | AL39: - | AQ39: 上水道 | AZ39: 20856 | BG39: 被保険者数(人) | BV39: 7281 | CD39: 積立金 | CR39: 488677 | CZ39: 2 | DD39: 482117 | DL39: - | DW39: -
B40: うち臨時財政対策債 | R40: 62263 | Z40: 0.2 | AD40: - | AL40: - | AQ40: 工業用水道 | AZ40: - | BG40: 被保険者 1人当り | BM40: 保険税(料)収入額 | BV40: 130 | CD40: 投資・出資金・貸付金 | CR40: 298 | CZ40: 0 | DD40: - | DL40: - | DW40: -
...

Sheet 各会計、関係団体の財政状況及び健全化判断比率
A2: (2)各会計、関係団体の財政状況及び健全化判断比率（市町村） | DJ2: 令和6年度 | DQ2: 石川県野々市市
A4: 一般会計等の財政状況（単位：百万円） | BQ4: 地方公社・第三セクター等の経営状況及び地方公共団体の財政的支援の状況（単位：百万円）
A5: 会計名 | Q5: 歳入 | V5: 歳出 | AA5: 形式収支 | AF5: 実質収支 | AK5: 他会計等 からの 繰入金 | AP5: 地方債 現在高 | AU5: 備考 | BQ5: 地方公社・第三セクター等名 | CH5: 経常損益 | CM5: 純資産又は 正味財産 | CR5: 当該団体 からの 出資金 | CW5: 当該団体 からの 補助金 | DB5: 当該団体 からの 貸付金 | DG5: 当該団体からの債務保証に係る債務残高 | DL5: 当該団体からの損失補償に係る債務残高 | DQ5: 一般会計等 負担見込額 | DV5: 備考
A7: 1 | B7: 一般会計 | AF7: 496 | BQ7: 1
A8: 2 | BQ8: 2
A9: 3 | BQ9: 3
A10: 4 | BQ10: 4
A11: 5 | BQ11: 5
A12: 6 | BQ12: 6
A13: 7 | BQ13: 7
A14: 8 | BQ14: 8
A15: 9 | BQ15: 9
A16: 10 | BQ16: 10
A17: 11 | BQ17: 11
A18: 12 | BQ18: 12
A19: 13 | BQ19: 13
... A21: 15 | BQ21: 15
A22: 16 | AZ22: 実質赤字額 | BQ22: 16
A23: 計 | B23: 一般会計等（純計） | AF23: 496 | AZ23: - | BQ23: 17
A24: ※一般会計等（純計）は、各会計の相互間の繰入・繰出等の重複を控除したものであり、各会計の合計と一致しない場合がある。 | BQ24: 18
A25: 公営企業会計等の財政状況（単位：百万円） | BQ25: 19
A26: 会計名 | Q26: 総収益 （歳入） | V26: 総費用 （歳出） | AA26: 純損益 （形式収支） | AF26: 資金剰余額 /不足額 （実質収支） | AK26: 他会計等 からの 繰入金 | AP26: 企業債 （地方債） 現在高 | AU26: 左のうち 一般会計等 繰入見込額 | AZ26: 資金不足 比率 | BE26: 備考 | BQ26: 20
BQ27: 21
A28: 1 | B28: 国民健康保険特別会計 | AF28: 24 | BQ28: 22
A29: 2 | B29: 介護保険特別会計 | AF29: 74 | BQ29: 23
A30: 3 | B30: 後期高齢者医療特別会計 | AF30: 2 | BQ30: 24
A31: 4 | B31: 水道事業会計 | AF31: 1665 | BE31: 法適用企業 | BQ31: 25
A32: 5 | B32: 公共下水道事業会計 | AF32: 349 | BE32: 法適用企業 | BQ32: 26
A33: 6 | BQ33: 27
A34: 7 | BQ34: 28
A35: 8 | BQ35: 29
A36: 9 | BQ36: 30
A37: 10 | BQ37: 31
A38: 11 | BQ38: 32
A39: 12 | BQ39: 33
A40: 13 | BQ40: 34
A41: 14 | BQ41: 35
A42: 15 | BQ42: 36
A43: 16 | BQ43: 37
A44: 17 | BQ44: 38
...

Sheet 財政比較分析表

Sheet 経常経費分析表（経常収支比率の分析）

Sheet 経常経費分析表（人件費・公債費・普通建設事業費の分析）
A5: 人件費及び人件費に準ずる費用の分析
AK6: 人件費及び人件費に準ずる費用
AO7: 当該団体決算額 （千円） | AQ7: 人口1人当たり決算額
AP8: 当該団体（円） | AQ8: 類似団体平均（円） | AR8: 対比（％）
AK9: 人件費 | AO9: 2996051 | AP9: 54890 | AQ9: 72348 | AR9: -24.1
AK10: 一部事務組合負担金（補助費等） | AO10: 568829 | AP10: 10421 | AQ10: 6364 | AR10: 63.7
AK11: 公営企業（法適）等に対する繰出し（補助費等） | AO11: 41886 | AP11: 767 | AQ11: 1262 | AR11: -39.2
AK12: 公営企業（法適）等に対する繰出し（投資及び出資金・貸付金） | AO12: - | AP12: - | AQ12: 10 | AR12: -
AK13: 公営企業（法非適）等に対する繰出し（繰出金） | AO13: 109482 | AP13: 2006 | AQ13: 3257 | AR13: -38.4
AK14: 事業費支弁に係る職員の人件費（投資的経費） | AO14: 83011 | AP14: 1521 | AQ14: 1617 | AR14: -5.9
AK15: ▲退職金 | AO15: -178768 | AP15: -3275 | AQ15: -3947 | AR15: -17
AK16: 合計 | AO16: 3620491 | AP16: 66330 | AQ16: 80912 | AR16: -18
AK19: 参考
AO20: 当該団体 | AP20: 類似団体平均 | AQ20: 対比（差引）
AK21: 人口1,000人当たり職員数（人） | AO21: 5.62 | AP21: 6.71 | AQ21: -1.09
AK22: ラスパイレス指数 | AO22: 97 | AP22: 98.3 | AQ22: -1.3
A26: （注）人口については、各調査対象年度の1月1日現在の住民基本台帳に登載されている人口に基づいている。
A28: 公債費及び公債費に準ずる費用の分析
AK29: 公債費及び公債費に準ずる費用（実質公債費比率の構成要素）
AO30: 当該団体決算額 （千円） | AQ30: 人口1人当たり決算額
AP31: 当該団体（円） | AQ31: 類似団体平均（円） | AR31: 対比（％）
AK32: 元利償還金の額 （繰上償還額等を除く） | AO32: 1830004 | AP32: 33527 | AQ32: 34344 | AR32: -2.4
AK33: 積立不足額を考慮して算定した額 | AO33: - | AP33: - | AQ33: - | AR33: -
AK34: 満期一括償還地方債の一年当たりの元金償還金に相当するもの （年度割相当額） | AO34: - | AP34: - | AQ34: 3 | AR34: -
AK35: 公営企業に要する経費の財源とする地方債の償還の財源に 充てたと認められる繰入金 | AO35: 288703 | AP35: 5289 | AQ35: 7806 | AR35: -32.2
AK36: 一部事務組合等の起こした地方債に充てたと認められる 補助金又は負担金 | AO36: 281216 | AP36: 5152 | AQ36: 1690 | AR36: 204.9
AK37: 公債費に準ずる債務負担行為に係るもの | AO37: 161674 | AP37: 2962 | AQ37: 666 | AR37: 344.7
AK38: 一時借入金利子 （同一団体における会計間の現金運用に係る利子は除く） | AO38: - | AP38: - | AQ38: 3 | AR38: -
AK39: ▲特定財源の額 | AO39: -477466 | AP39: -8748 | AQ39: -5822 | AR39: 50.3
AK40: ▲地方債に係る元利償還金及び準元利償還金に要する経費として 普通交付税の額の算定に用いる基準財政需要額に算入された額 | AO40: -1500336 | AP40: -27487 | AQ40: -26710 | AR40: 2.9
AK41: 合計 | AO41: 583795 | AP41: 10696 | AQ41: 11979 | AR41: -10.7
A47: （参考） 普通建設事業費の分析
AK48: 普通建設事業費
AM49: 当該団体決算額 （千円） | AN49: 人口１人当たり決算額
AN50: 当該団体(円) | AO50: 増減率(%)(A) | AP50: 類似団体平均(円) | AQ50: 増減率(%)(B) | AR50: (A)-(B)
AK51: R02 | AM51: 2595915 | AN51: 48465 | AO51: 44.4 | AP51: 45483 | AQ51: -0.2 | AR51: 44.6
AL52: うち単独分 | AM52: 1173616 | AN52: 21911 | AO52: 109.5 | AP52: 24241 | AQ52: 0.4 | AR52: 109.1
AK53: R03 | AM53: 1483488 | AN53: 27482 | AO53: -43.3 | AP53: 45945 | AQ53: 1 | AR53: -44.3
AL54: うち単独分 | AM54: 783206 | AN54: 14509 | AO54: -33.8 | AP54: 25180 | AQ54: 3.9 | AR54: -37.7
AK55: R04 | AM55: 1759586 | AN55: 32507 | AO55: 18.3 | AP55: 44475 | AQ55: -3.2 | AR55: 21.5
...

Sheet 性質別歳出決算分析表（住民一人当たりのコスト）

Sheet 目的別歳出決算分析表（住民一人当たりのコスト）

Sheet 実質収支比率等に係る経年分析
J45: 標準財政規模比（％）
B46: 区分 | E46: 年度 | F46: R02 | G46: R03 | H46: R04 | I46: R05 | J46: R06
C47: 財政調整基金残高 | F47: 19.04 | G47: 18.56 | H47: 19.39 | I47: 18.64 | J47: 18.35
C48: 実質収支額 | F48: 2.76 | G48: 4.22 | H48: 4.68 | I48: 3.78 | J48: 3.94
C49: 実質単年度収支 | F49: ▲ 2.12 | G49: 1.18 | H49: ▲ 1.27 | I49: ▲ 3.20 | J49: ▲ 1.30

Sheet 連結実質赤字比率に係る赤字・黒字の構成分析
J32: 標準財政規模比（％）
B33: 会計 | E33: 年度 | F33: R02 | G33: R03 | H33: R04 | I33: R05 | J33: R06
C34: 水道事業会計 | F34: 13.97 | G34: 13.92 | H34: 13.94 | I34: 14.05 | J34: 13.22
C35: 一般会計 | F35: 2.76 | G35: 4.21 | H35: 4.54 | I35: 3.73 | J35: 3.93
C36: 公共下水道事業会計 | F36: 3.28 | G36: 2.61 | H36: 2.55 | I36: 2.78 | J36: 2.77
C37: 介護保険特別会計 | F37: 0.03 | G37: 0.72 | H37: 0.61 | I37: 0.76 | J37: 0.58
C38: 国民健康保険特別会計 | F38: 0.55 | G38: 0.46 | H38: 0.58 | I38: 0 | J38: 0.18
C39: 後期高齢者医療特別会計 | F39: 0.01 | G39: 0.01 | H39: 0.01 | I39: 0.01 | J39: 0.01
C42: その他会計（赤字） | F42: - | G42: - | H42: - | I42: - | J42: -
C43: その他会計（黒字） | F43: - | G43: - | H43: 0.13 | I43: 0.04 | J43: -

Sheet 実質公債費比率（分子）の構造
O43: （百万円）
B44: 分子の構造 | J44: 年度 | K44: R02 | L44: R03 | M44: R04 | N44: R05 | O44: R06
B45: 元利償還金等(A) | E45: 元利償還金 | K45: 1748 | L45: 1909 | M45: 1924 | N45: 1897 | O45: 1830
E46: 減債基金積立不足算定額※2 | K46: - | L46: - | M46: - | N46: - | O46: -
E47: 満期一括償還地方債に係る年度割相当額 | K47: - | L47: - | M47: - | N47: - | O47: -
E48: 公営企業債の元利償還金に対する繰入金 | K48: 319 | L48: 314 | M48: 295 | N48: 301 | O48: 289
E49: 組合等が起こした地方債の元利償還金に対する負担金等 | K49: 183 | L49: 296 | M49: 305 | N49: 296 | O49: 281
E50: 債務負担行為に基づく支出額 | K50: 183 | L50: 182 | M50: 161 | N50: 161 | O50: 162
E51: 一時借入金の利子 | K51: - | L51: - | M51: - | N51: - | O51: -
B52: 算入公債費等(B) | E52: 算入公債費等 | K52: 1744 | L52: 1947 | M52: 1954 | N52: 1996 | O52: 1978
B53: (A)－(B) | E53: 実質公債費比率の分子 | K53: 689 | L53: 754 | M53: 731 | N53: 659 | O53: 584
B54: ※ 減債基金積立不足算定額=(C)×(１－(D)/(E))
B56: （参考） | O56: （百万円）
J57: 年度 | K57: R02 | L57: R03 | M57: R04 | N57: R05 | O57: R06
B58: 減債基金 積立状況等（注） | D58: 満期一括償還地方債に係る実質償還額又は理論償還額のいずれか少ない額(C)
D59: 前年度末減債基金残高(D)
D60: 前年度末減債基金積立相当額(E)
D61: （注）減債基金のうち、実質公債費比率の算定に用いる満期一括償還地方債の償還の財源に係るもののみを記入。
D62: 減債基金積立金の年度を超えた一般会計又は特別会計への貸付額は控除して記入。

Sheet 将来負担比率（分子）の構造
M39: （百万円）
B40: 分子の構造 | H40: 年度 | I40: R02 | J40: R03 | K40: R04 | L40: R05 | M40: R06
B41: 将来負担額(A) | E41: 一般会計等に係る地方債の現在高 | I41: 20172 | J41: 20047 | K41: 18995 | L41: 18026 | M41: 18914
E42: 債務負担行為に基づく支出予定額 | I42: 1088 | J42: 915 | K42: 760 | L42: 654 | M42: 460
E43: 公営企業債等繰入見込額 | I43: 4922 | J43: 4245 | K43: 3844 | L43: 3574 | M43: 3268
E44: 組合等負担等見込額 | I44: 2486 | J44: 3000 | K44: 2846 | L44: 2897 | M44: 2827
E45: 退職手当負担見込額 | I45: 584 | J45: 465 | K45: 337 | L45: 324 | M45: 251
E46: 設立法人等の負債額等負担見込額 | I46: 69 | J46: 85 | K46: 102 | L46: 167 | M46: 1435
E47: うち、健全化法施行規則附則第三条に係る負担見込額 | I47: - | J47: - | K47: - | L47: - | M47: -
E48: 連結実質赤字額 | I48: - | J48: - | K48: - | L48: - | M48: -
E49: 組合等連結実質赤字額負担見込額 | I49: - | J49: - | K49: - | L49: - | M49: -
B50: 充当可能財源等(B) | E50: 充当可能基金 | I50: 4347 | J50: 4763 | K50: 5192 | L50: 5221 | M50: 5358
E51: 充当可能特定歳入 | I51: 4084 | J51: 4110 | K51: 4360 | L51: 4476 | M51: 4646
E52: 基準財政需要額算入見込額 | I52: 18825 | J52: 18752 | K52: 17874 | L52: 17143 | M52: 16964
B53: (A)－(B) | E53: 将来負担比率の分子 | I53: 2065 | J53: 1132 | K53: -541 | L53: -1197 | M53: 188

Sheet 基金残高に係る経年分析
H53: （百万円）
B54: 区分 | E54: 年度 | F54: R04 | G54: R05 | H54: R06
C55: 財政調整基金 | F55: 2304 | G55: 2277 | H55: 2310
C56: 減債基金 | F56: 524 | G56: 480 | H56: 456
C57: その他特定目的基金 | F57: 1345 | G57: 1449 | H57: 1577
C58: 教育施設整備基金 | F58: 513 | G58: 513 | H58: 564
C59: 広域斎場施設整備基金 | F59: 210 | G59: 310 | H59: 360
C60: 企業立地促進基金 | F60: 169 | G60: 169 | H60: 297
C61: 福祉基金 | F61: 277 | G61: 277 | H61: 180
C62: 都市基盤整備基金 | F62: 155 | G62: 150 | H62: 150
C63: 基金残高合計 | F63: 4173 | G63: 4206 | H63: 4342

Sheet 公会計指標分析・財政指標組合せ分析表
B41: 将来負担比率及び有形固定資産減価償却率の組合せによる分析
AN42: 分析欄
AN43: 令和６年度は一部施設の大規模改修事業などにより有形固定資産減価償却率は類似団体に比べ低くなっている。 将来負担比率については、公共施設の長寿命化事業などによる新規借入などにより1.6に上昇した。 今後も引き続き大型事業の実施時期、優先順位を適正に判断し、地方債の新規発行を抑制し将来負担比率の低下に努めたい。
AN49: ( 参考 ）
BP50: R02 | BX50: R03 | CF50: R04 | CN50: R05 | CV50: R06
AN51: 当該団体値 | BB51: 将来負担比率 | BP51: 21 | BX51: 10.6 | CV51: 1.6
BB53: 有形固定資産減価償却率 | BP53: 59.5 | BX53: 61.1 | CF53: 62.4 | CN53: 64.1 | CV53: 64.6
AN55: 類似団体内平均値 | BB55: 将来負担比率 | BP55: 20.4 | BX55: 11.2 | CF55: 4.6 | CN55: 4.2 | CV55: 3.6
BB57: 有形固定資産減価償却率 | BP57: 63 | BX57: 63.7 | CF57: 64.2 | CN57: 65 | CV57: 66.1
B63: 将来負担比率及び実質公債費比率の組合せによる分析
AN64: 分析欄
AN65: 実質公債費比率については、一部事業の償還が終了したことなどに伴い6.1に減少したものの類似団体と比較して高い水準となっている。 将来負担比率については、公共施設の長寿命化事業の新規借入などにより1.6に上昇したものの類似団体と比較して低い水準となっている。 今後も、一層の償還管理および計画的な地方債発行に努め、比率の抑制を図る。
AN71: ( 参考 ）
BP72: R02 | BX72: R03 | CF72: R04 | CN72: R05 | CV72: R06
AN73: 当該団体値 | BB73: 将来負担比率 | BP73: 21 | BX73: 10.6 | CV73: 1.6
BB75: 実質公債費比率 | BP75: 7.1 | BX75: 7 | CF75: 7 | CN75: 6.7 | CV75: 6.1
AN77: 類似団体内平均値 | BB77: 将来負担比率 | BP77: 20.4 | BX77: 11.2 | CF77: 4.6 | CN77: 4.2 | CV77: 3.6
BB79: 実質公債費比率 | BP79: 6.2 | BX79: 5.7 | CF79: 5.8 | CN79: 5.8 | CV79: 5.7

Sheet 施設類型別ストック情報分析表①

Sheet 施設類型別ストック情報分析表②

Sheet データシート
D2: 当該団体(円) | F2: 類似団体内平均(円)
A3: R02 | D3: 48465 | F3: 45483
D4: 21911 | F4: 24241
A5: R03 | D5: 27482 | F5: 45945
D6: 14509 | F6: 25180
A7: R04 | D7: 32507 | F7: 44475
D8: 19996 | F8: 24780
A9: R05 | D9: 37638 | F9: 45982
D10: 23950 | F10: 25583
A11: R06 | D11: 75055 | F11: 50538
D12: 52739 | F12: 29053
D13: 44229 | F13: 46485
D14: 26621 | F14: 25767
A17: 実質収支比率等に係る経年分析
B18: =#REF! -> #REF! | C18: =#REF! -> #REF! | D18: =#REF! -> #REF! | E18: =#REF! -> #REF! | F18: =#REF! -> #REF!
A19: 実質収支額 | B19: =ROUND(VALUE(SUBSTITUTE(#REF!,"▲","-")),2) -> #REF! | C19: =ROUND(VALUE(SUBSTITUTE(#REF!,"▲","-")),2) -> #REF! | D19: =ROUND(VALUE(SUBSTITUTE(#REF!,"▲","-")),2) -> #REF! | E19: =ROUND(VALUE(SUBSTITUTE(#REF!,"▲","-")),2) -> #REF! | F19: =ROUND(VALUE(SUBSTITUTE(#REF!,"▲","-")),2) -> #REF!
A20: 財政調整基金残高 | B20: =ROUND(VALUE(SUBSTITUTE(#REF!,"▲","-")),2) -> #REF! | C20: =ROUND(VALUE(SUBSTITUTE(#REF!,"▲","-")),2) -> #REF! | D20: =ROUND(VALUE(SUBSTITUTE(#REF!,"▲","-")),2) -> #REF! | E20: =ROUND(VALUE(SUBSTITUTE(#REF!,"▲","-")),2) -> #REF! | F20: =ROUND(VALUE(SUBSTITUTE(#REF!,"▲","-")),2) -> #REF!
A21: 実質単年度収支 | B21: =IF(ISNUMBER(VALUE(SUBSTITUTE(#REF!,"▲","-"))),ROUND(VALUE(SUBSTITUTE(#REF!,"▲","-")),2),NA()) -> #N/A | C21: =IF(ISNUMBER(VALUE(SUBSTITUTE(#REF!,"▲","-"))),ROUND(VALUE(SUBSTITUTE(#REF!,"▲","-")),2),NA()) -> #N/A | D21: =IF(ISNUMBER(VALUE(SUBSTITUTE(#REF!,"▲","-"))),ROUND(VALUE(SUBSTITUTE(#REF!,"▲","-")),2),NA()) -> #N/A | E21: =IF(ISNUMBER(VALUE(SUBSTITUTE(#REF!,"▲","-"))),ROUND(VALUE(SUBSTITUTE(#REF!,"▲","-")),2),NA()) -> #N/A | F21: =IF(ISNUMBER(VALUE(SUBSTITUTE(#REF!,"▲","-"))),ROUND(VALUE(SUBSTITUTE(#REF!,"▲","-")),2),NA()) -> #N/A
A24: 連結実質赤字比率に係る赤字・黒字の構成分析
B25: =#REF! -> #REF! | D25: =#REF! -> #REF! | F25: =#REF! -> #REF! | H25: =#REF! -> #REF! | J25: =#REF! -> #REF!
B26: 赤字額 | C26: 黒字額 | D26: 赤字額 | E26: 黒字額 | F26: 赤字額 | G26: 黒字額 | H26: 赤字額 | I26: 黒字額 | J26: 赤字額 | K26: 黒字額
A27: =IF(#REF!="",NA(),#REF!) -> #REF! | B27: =IF(ROUND(VALUE(SUBSTITUTE(#REF!,"▲", "-")), 2) < 0, ABS(ROUND(VALUE(SUBSTITUTE(#REF!,"▲", "-")), 2)), NA()) -> #REF! | C27: =IF(ROUND(VALUE(SUBSTITUTE(#REF!,"▲", "-")), 2) >= 0, ABS(ROUND(VALUE(SUBSTITUTE(#REF!,"▲", "-")), 2)), NA()) -> #REF! | D27: =IF(ROUND(VALUE(SUBSTITUTE(#REF!,"▲", "-")), 2) < 0, ABS(ROUND(VALUE(SUBSTITUTE(#REF!,"▲", "-")), 2)), NA()) -> #REF! | E27: =IF(ROUND(VALUE(SUBSTITUTE(#REF!,"▲", "-")), 2) >= 0, ABS(ROUND(VALUE(SUBSTITUTE(#REF!,"▲", "-")), 2)), NA()) -> #REF! | F27: =IF(ROUND(VALUE(SUBSTITUTE(#REF!,"▲", "-")), 2) < 0, ABS(ROUND(VALUE(SUBSTITUTE(#REF!,"▲", "-")), 2)), NA()) -> #REF! | G27: =IF(ROUND(VALUE(SUBSTITUTE(#REF!,"▲", "-")), 2) >= 0, ABS(ROUND(VALUE(SUBSTITUTE(#REF!,"▲", "-")), 2)), NA()) -> #REF! | H27: =IF(ROUND(VALUE(SUBSTITUTE(#REF!,"▲", "-")), 2) < 0, ABS(ROUND(VALUE(SUBSTITUTE(#REF!,"▲", "-")), 2)), NA()) -> #REF! | I27: =IF(ROUND(VALUE(SUBSTITUTE(#REF!,"▲", "-")), 2) >= 0, ABS(ROUND(VALUE(SUBSTITUTE(#REF!,"▲", "-")), 2)), NA()) -> #REF! | J27: =IF(ROUND(VALUE(SUBSTITUTE(#REF!,"▲", "-")), 2) < 0, ABS(ROUND(VALUE(SUBSTITUTE(#REF!,"▲", "-")), 2)), NA()) -> #REF! | K27: =IF(ROUND(VALUE(SUBSTITUTE(#REF!,"▲", "-")), 2) >= 0, ABS(ROUND(VALUE(SUBSTITUTE(#REF!,"▲", "-")), 2)), NA()) -> #REF!
A28: =IF(#REF!="",NA(),#REF!) -> #REF! | B28: =IF(ROUND(VALUE(SUBSTITUTE(#REF!,"▲", "-")), 2) < 0, ABS(ROUND(VALUE(SUBSTITUTE(#REF!,"▲", "-")), 2)), NA()) -> #REF! | C28: =IF(ROUND(VALUE(SUBSTITUTE(#REF!,"▲", "-")), 2) >= 0, ABS(ROUND(VALUE(SUBSTITUTE(#REF!,"▲", "-")), 2)), NA()) -> #REF! | D28: =IF(ROUND(VALUE(SUBSTITUTE(#REF!,"▲", "-")), 2) < 0, ABS(ROUND(VALUE(SUBSTITUTE(#REF!,"▲", "-")), 2)), NA()) -> #REF! | E28: =IF(ROUND(VALUE(SUBSTITUTE(#REF!,"▲", "-")), 2) >= 0, ABS(ROUND(VALUE(SUBSTITUTE(#REF!,"▲", "-")), 2)), NA()) -> #REF! | F28: =IF(ROUND(VALUE(SUBSTITUTE(#REF!,"▲", "-")), 2) < 0, ABS(ROUND(VALUE(SUBSTITUTE(#REF!,"▲", "-")), 2)), NA()) -> #REF! | G28: =IF(ROUND(VALUE(SUBSTITUTE(#REF!,"▲", "-")), 2) >= 0, ABS(ROUND(VALUE(SUBSTITUTE(#REF!,"▲", "-")), 2)), NA()) -> #REF! | H28: =IF(ROUND(VALUE(SUBSTITUTE(#REF!,"▲", "-")), 2) < 0, ABS(ROUND(VALUE(SUBSTITUTE(#REF!,"▲", "-")), 2)), NA()) -> #REF! | I28: =IF(ROUND(VALUE(SUBSTITUTE(#REF!,"▲", "-")), 2) >= 0, ABS(ROUND(VALUE(SUBSTITUTE(#REF!,"▲", "-")), 2)), NA()) -> #REF! | J28: =IF(ROUND(VALUE(SUBSTITUTE(#REF!,"▲", "-")), 2) < 0, ABS(ROUND(VALUE(SUBSTITUTE(#REF!,"▲", "-")), 2)), NA()) -> #REF! | K28: =IF(ROUND(VALUE(SUBSTITUTE(#REF!,"▲", "-")), 2) >= 0, ABS(ROUND(VALUE(SUBSTITUTE(#REF!,"▲", "-")), 2)), NA()) -> #REF!
A29: =IF(#REF!="",NA(),#REF!) -> #REF! | B29: =IF(ROUND(VALUE(SUBSTITUTE(#REF!,"▲", "-")), 2) < 0, ABS(ROUND(VALUE(SUBSTITUTE(#REF!,"▲", "-")), 2)), NA()) -> #REF! | C29: =IF(ROUND(VALUE(SUBSTITUTE(#REF!,"▲", "-")), 2) >= 0, ABS(ROUND(VALUE(SUBSTITUTE(#REF!,"▲", "-")), 2)), NA()) -> #REF! | D29: =IF(ROUND(VALUE(SUBSTITUTE(#REF!,"▲", "-")), 2) < 0, ABS(ROUND(VALUE(SUBSTITUTE(#REF!,"▲", "-")), 2)), NA()) -> #REF! | E29: =IF(ROUND(VALUE(SUBSTITUTE(#REF!,"▲", "-")), 2) >= 0, ABS(ROUND(VALUE(SUBSTITUTE(#REF!,"▲", "-")), 2)), NA()) -> #REF! | F29: =IF(ROUND(VALUE(SUBSTITUTE(#REF!,"▲", "-")), 2) < 0, ABS(ROUND(VALUE(SUBSTITUTE(#REF!,"▲", "-")), 2)), NA()) -> #REF! | G29: =IF(ROUND(VALUE(SUBSTITUTE(#REF!,"▲", "-")), 2) >= 0, ABS(ROUND(VALUE(SUBSTITUTE(#REF!,"▲", "-")), 2)), NA()) -> #REF! | H29: =IF(ROUND(VALUE(SUBSTITUTE(#REF!,"▲", "-")), 2) < 0, ABS(ROUND(VALUE(SUBSTITUTE(#REF!,"▲", "-")), 2)), NA()) -> #REF! | I29: =IF(ROUND(VALUE(SUBSTITUTE(#REF!,"▲", "-")), 2) >= 0, ABS(ROUND(VALUE(SUBSTITUTE(#REF!,"▲", "-")), 2)), NA()) -> #REF! | J29: =IF(ROUND(VALUE(SUBSTITUTE(#REF!,"▲", "-")), 2) < 0, ABS(ROUND(VALUE(SUBSTITUTE(#REF!,"▲", "-")), 2)), NA()) -> #REF! | K29: =IF(ROUND(VALUE(SUBSTITUTE(#REF!,"▲", "-")), 2) >= 0, ABS(ROUND(VALUE(SUBSTITUTE(#REF!,"▲", "-")), 2)), NA()) -> #REF!
A30: =IF(#REF!="",NA(),#REF!) -> #REF! | B30: =IF(ROUND(VALUE(SUBSTITUTE(#REF!,"▲", "-")), 2) < 0, ABS(ROUND(VALUE(SUBSTITUTE(#REF!,"▲", "-")), 2)), NA()) -> #REF! | C30: =IF(ROUND(VALUE(SUBSTITUTE(#REF!,"▲", "-")), 2) >= 0, ABS(ROUND(VALUE(SUBSTITUTE(#REF!,"▲", "-")), 2)), NA()) -> #REF! | D30: =IF(ROUND(VALUE(SUBSTITUTE(#REF!,"▲", "-")), 2) < 0, ABS(ROUND(VALUE(SUBSTITUTE(#REF!,"▲", "-")), 2)), NA()) -> #REF! | E30: =IF(ROUND(VALUE(SUBSTITUTE(#REF!,"▲", "-")), 2) >= 0, ABS(ROUND(VALUE(SUBSTITUTE(#REF!,"▲", "-")), 2)), NA()) -> #REF! | F30: =IF(ROUND(VALUE(SUBSTITUTE(#REF!,"▲", "-")), 2) < 0, ABS(ROUND(VALUE(SUBSTITUTE(#REF!,"▲", "-")), 2)), NA()) -> #REF! | G30: =IF(ROUND(VALUE(SUBSTITUTE(#REF!,"▲", "-")), 2) >= 0, ABS(ROUND(VALUE(SUBSTITUTE(#REF!,"▲", "-")), 2)), NA()) -> #REF! | H30: =IF(ROUND(VALUE(SUBSTITUTE(#REF!,"▲", "-")), 2) < 0, ABS(ROUND(VALUE(SUBSTITUTE(#REF!,"▲", "-")), 2)), NA()) -> #REF! | I30: =IF(ROUND(VALUE(SUBSTITUTE(#REF!,"▲", "-")), 2) >= 0, ABS(ROUND(VALUE(SUBSTITUTE(#REF!,"▲", "-")), 2)), NA()) -> #REF! | J30: =IF(ROUND(VALUE(SUBSTITUTE(#REF!,"▲", "-")), 2) < 0, ABS(ROUND(VALUE(SUBSTITUTE(#REF!,"▲", "-")), 2)), NA()) -> #REF! | K30: =IF(ROUND(VALUE(SUBSTITUTE(#REF!,"▲", "-")), 2) >= 0, ABS(ROUND(VALUE(SUBSTITUTE(#REF!,"▲", "-")), 2)), NA()) -> #REF!
A31: =IF(#REF!="",NA(),#REF!) -> #REF! | B31: =IF(ROUND(VALUE(SUBSTITUTE(#REF!,"▲", "-")), 2) < 0, ABS(ROUND(VALUE(SUBSTITUTE(#REF!,"▲", "-")), 2)), NA()) -> #REF! | C31: =IF(ROUND(VALUE(SUBSTITUTE(#REF!,"▲", "-")), 2) >= 0, ABS(ROUND(VALUE(SUBSTITUTE(#REF!,"▲", "-")), 2)), NA()) -> #REF! | D31: =IF(ROUND(VALUE(SUBSTITUTE(#REF!,"▲", "-")), 2) < 0, ABS(ROUND(VALUE(SUBSTITUTE(#REF!,"▲", "-")), 2)), NA()) -> #REF! | E31: =IF(ROUND(VALUE(SUBSTITUTE(#REF!,"▲", "-")), 2) >= 0, ABS(ROUND(VALUE(SUBSTITUTE(#REF!,"▲", "-")), 2)), NA()) -> #REF! | F31: =IF(ROUND(VALUE(SUBSTITUTE(#REF!,"▲", "-")), 2) < 0, ABS(ROUND(VALUE(SUBSTITUTE(#REF!,"▲", "-")), 2)), NA()) -> #REF! | G31: =IF(ROUND(VALUE(SUBSTITUTE(#REF!,"▲", "-")), 2) >= 0, ABS(ROUND(VALUE(SUBSTITUTE(#REF!,"▲", "-")), 2)), NA()) -> #REF! | H31: =IF(ROUND(VALUE(SUBSTITUTE(#REF!,"▲", "-")), 2) < 0, ABS(ROUND(VALUE(SUBSTITUTE(#REF!,"▲", "-")), 2)), NA()) -> #REF! | I31: =IF(ROUND(VALUE(SUBSTITUTE(#REF!,"▲", "-")), 2) >= 0, ABS(ROUND(VALUE(SUBSTITUTE(#REF!,"▲", "-")), 2)), NA()) -> #REF! | J31: =IF(ROUND(VALUE(SUBSTITUTE(#REF!,"▲", "-")), 2) < 0, ABS(ROUND(VALUE(SUBSTITUTE(#REF!,"▲", "-")), 2)), NA()) -> #REF! | K31: =IF(ROUND(VALUE(SUBSTITUTE(#REF!,"▲", "-")), 2) >= 0, ABS(ROUND(VALUE(SUBSTITUTE(#REF!,"▲", "-")), 2)), NA()) -> #REF!
A32: =IF(#REF!="",NA(),#REF!) -> #REF! | B32: =IF(ROUND(VALUE(SUBSTITUTE(#REF!,"▲", "-")), 2) < 0, ABS(ROUND(VALUE(SUBSTITUTE(#REF!,"▲", "-")), 2)), NA()) -> #REF! | C32: =IF(ROUND(VALUE(SUBSTITUTE(#REF!,"▲", "-")), 2) >= 0, ABS(ROUND(VALUE(SUBSTITUTE(#REF!,"▲", "-")), 2)), NA()) -> #REF! | D32: =IF(ROUND(VALUE(SUBSTITUTE(#REF!,"▲", "-")), 2) < 0, ABS(ROUND(VALUE(SUBSTITUTE(#REF!,"▲", "-")), 2)), NA()) -> #REF! | E32: =IF(ROUND(VALUE(SUBSTITUTE(#REF!,"▲", "-")), 2) >= 0, ABS(ROUND(VALUE(SUBSTITUTE(#REF!,"▲", "-")), 2)), NA()) -> #REF! | F32: =IF(ROUND(VALUE(SUBSTITUTE(#REF!,"▲", "-")), 2) < 0, ABS(ROUND(VALUE(SUBSTITUTE(#REF!,"▲", "-")), 2)), NA()) -> #REF! | G32: =IF(ROUND(VALUE(SUBSTITUTE(#REF!,"▲", "-")), 2) >= 0, ABS(ROUND(VALUE(SUBSTITUTE(#REF!,"▲", "-")), 2)), NA()) -> #REF! | H32: =IF(ROUND(VALUE(SUBSTITUTE(#REF!,"▲", "-")), 2) < 0, ABS(ROUND(VALUE(SUBSTITUTE(#REF!,"▲", "-")), 2)), NA()) -> #REF! | I32: =IF(ROUND(VALUE(SUBSTITUTE(#REF!,"▲", "-")), 2) >= 0, ABS(ROUND(VALUE(SUBSTITUTE(#REF!,"▲", "-")), 2)), NA()) -> #REF! | J32: =IF(ROUND(VALUE(SUBSTITUTE(#REF!,"▲", "-")), 2) < 0, ABS(ROUND(VALUE(SUBSTITUTE(#REF!,"▲", "-")), 2)), NA()) -> #REF! | K32: =IF(ROUND(VALUE(SUBSTITUTE(#REF!,"▲", "-")), 2) >= 0, ABS(ROUND(VALUE(SUBSTITUTE(#REF!,"▲", "-")), 2)), NA()) -> #REF!
A33: =IF(#REF!="",NA(),#REF!) -> #REF! | B33: =IF(ROUND(VALUE(SUBSTITUTE(#REF!,"▲", "-")), 2) < 0, ABS(ROUND(VALUE(SUBSTITUTE(#REF!,"▲", "-")), 2)), NA()) -> #REF! | C33: =IF(ROUND(VALUE(SUBSTITUTE(#REF!,"▲", "-")), 2) >= 0, ABS(ROUND(VALUE(SUBSTITUTE(#REF!,"▲", "-")), 2)), NA()) -> #REF! | D33: =IF(ROUND(VALUE(SUBSTITUTE(#REF!,"▲", "-")), 2) < 0, ABS(ROUND(VALUE(SUBSTITUTE(#REF!,"▲", "-")), 2)), NA()) -> #REF! | E33: =IF(ROUND(VALUE(SUBSTITUTE(#REF!,"▲", "-")), 2) >= 0, ABS(ROUND(VALUE(SUBSTITUTE(#REF!,"▲", "-")), 2)), NA()) -> #REF! | F33: =IF(ROUND(VALUE(SUBSTITUTE(#REF!,"▲", "-")), 2) < 0, ABS(ROUND(VALUE(SUBSTITUTE(#REF!,"▲", "-")), 2)), NA()) -> #REF! | G33: =IF(ROUND(VALUE(SUBSTITUTE(#REF!,"▲", "-")), 2) >= 0, ABS(ROUND(VALUE(SUBSTITUTE(#REF!,"▲", "-")), 2)), NA()) -> #REF! | H33: =IF(ROUND(VALUE(SUBSTITUTE(#REF!,"▲", "-")), 2) < 0, ABS(ROUND(VALUE(SUBSTITUTE(#REF!,"▲", "-")), 2)), NA()) -> #REF! | I33: =IF(ROUND(VALUE(SUBSTITUTE(#REF!,"▲", "-")), 2) >= 0, ABS(ROUND(VALUE(SUBSTITUTE(#REF!,"▲", "-")), 2)), NA()) -> #REF! | J33: =IF(ROUND(VALUE(SUBSTITUTE(#REF!,"▲", "-")), 2) < 0, ABS(ROUND(VALUE(SUBSTITUTE(#REF!,"▲", "-")), 2)), NA()) -> #REF! | K33: =IF(ROUND(VALUE(SUBSTITUTE(#REF!,"▲", "-")), 2) >= 0, ABS(ROUND(VALUE(SUBSTITUTE(#REF!,"▲", "-")), 2)), NA()) -> #REF!
A34: =IF(#REF!="",NA(),#REF!) -> #REF! | B34: =IF(ROUND(VALUE(SUBSTITUTE(#REF!,"▲", "-")), 2) < 0, ABS(ROUND(VALUE(SUBSTITUTE(#REF!,"▲", "-")), 2)), NA()) -> #REF! | C34: =IF(ROUND(VALUE(SUBSTITUTE(#REF!,"▲", "-")), 2) >= 0, ABS(ROUND(VALUE(SUBSTITUTE(#REF!,"▲", "-")), 2)), NA()) -> #REF! | D34: =IF(ROUND(VALUE(SUBSTITUTE(#REF!,"▲", "-")), 2) < 0, ABS(ROUND(VALUE(SUBSTITUTE(#REF!,"▲", "-")), 2)), NA()) -> #REF! | E34: =IF(ROUND(VALUE(SUBSTITUTE(#REF!,"▲", "-")), 2) >= 0, ABS(ROUND(VALUE(SUBSTITUTE(#REF!,"▲", "-")), 2)), NA()) -> #REF! | F34: =IF(ROUND(VALUE(SUBSTITUTE(#REF!,"▲", "-")), 2) < 0, ABS(ROUND(VALUE(SUBSTITUTE(#REF!,"▲", "-")), 2)), NA()) -> #REF! | G34: =IF(ROUND(VALUE(SUBSTITUTE(#REF!,"▲", "-")), 2) >= 0, ABS(ROUND(VALUE(SUBSTITUTE(#REF!,"▲", "-")), 2)), NA()) -> #REF! | H34: =IF(ROUND(VALUE(SUBSTITUTE(#REF!,"▲", "-")), 2) < 0, ABS(ROUND(VALUE(SUBSTITUTE(#REF!,"▲", "-")), 2)), NA()) -> #REF! | I34: =IF(ROUND(VALUE(SUBSTITUTE(#REF!,"▲", "-")), 2) >= 0, ABS(ROUND(VALUE(SUBSTITUTE(#REF!,"▲", "-")), 2)), NA()) -> #REF! | J34: =IF(ROUND(VALUE(SUBSTITUTE(#REF!,"▲", "-")), 2) < 0, ABS(ROUND(VALUE(SUBSTITUTE(#REF!,"▲", "-")), 2)), NA()) -> #REF! | K34: =IF(ROUND(VALUE(SUBSTITUTE(#REF!,"▲", "-")), 2) >= 0, ABS(ROUND(VALUE(SUBSTITUTE(#REF!,"▲", "-")), 2)), NA()) -> #REF!
A35: =IF(#REF!="",NA(),#REF!) -> #REF! | B35: =IF(ROUND(VALUE(SUBSTITUTE(#REF!,"▲", "-")), 2) < 0, ABS(ROUND(VALUE(SUBSTITUTE(#REF!,"▲", "-")), 2)), NA()) -> #REF! | C35: =IF(ROUND(VALUE(SUBSTITUTE(#REF!,"▲", "-")), 2) >= 0, ABS(ROUND(VALUE(SUBSTITUTE(#REF!,"▲", "-")), 2)), NA()) -> #REF! | D35: =IF(ROUND(VALUE(SUBSTITUTE(#REF!,"▲", "-")), 2) < 0, ABS(ROUND(VALUE(SUBSTITUTE(#REF!,"▲", "-")), 2)), NA()) -> #REF! | E35: =IF(ROUND(VALUE(SUBSTITUTE(#REF!,"▲", "-")), 2) >= 0, ABS(ROUND(VALUE(SUBSTITUTE(#REF!,"▲", "-")), 2)), NA()) -> #REF! | F35: =IF(ROUND(VALUE(SUBSTITUTE(#REF!,"▲", "-")), 2) < 0, ABS(ROUND(VALUE(SUBSTITUTE(#REF!,"▲", "-")), 2)), NA()) -> #REF! | G35: =IF(ROUND(VALUE(SUBSTITUTE(#REF!,"▲", "-")), 2) >= 0, ABS(ROUND(VALUE(SUBSTITUTE(#REF!,"▲", "-")), 2)), NA()) -> #REF! | H35: =IF(ROUND(VALUE(SUBSTITUTE(#REF!,"▲", "-")), 2) < 0, ABS(ROUND(VALUE(SUBSTITUTE(#REF!,"▲", "-")), 2)), NA()) -> #REF! | I35: =IF(ROUND(VALUE(SUBSTITUTE(#REF!,"▲", "-")), 2) >= 0, ABS(ROUND(VALUE(SUBSTITUTE(#REF!,"▲", "-")), 2)), NA()) -> #REF! | J35: =IF(ROUND(VALUE(SUBSTITUTE(#REF!,"▲", "-")), 2) < 0, ABS(ROUND(VALUE(SUBSTITUTE(#REF!,"▲", "-")), 2)), NA()) -> #REF! | K35: =IF(ROUND(VALUE(SUBSTITUTE(#REF!,"▲", "-")), 2) >= 0, ABS(ROUND(VALUE(SUBSTITUTE(#REF!,"▲", "-")), 2)), NA()) -> #REF!
A36: =IF(#REF!="",NA(),#REF!) -> #REF! | B36: =IF(ROUND(VALUE(SUBSTITUTE(#REF!,"▲", "-")), 2) < 0, ABS(ROUND(VALUE(SUBSTITUTE(#REF!,"▲", "-")), 2)), NA()) -> #REF! | C36: =IF(ROUND(VALUE(SUBSTITUTE(#REF!,"▲", "-")), 2) >= 0, ABS(ROUND(VALUE(SUBSTITUTE(#REF!,"▲", "-")), 2)), NA()) -> #REF! | D36: =IF(ROUND(VALUE(SUBSTITUTE(#REF!,"▲", "-")), 2) < 0, ABS(ROUND(VALUE(SUBSTITUTE(#REF!,"▲", "-")), 2)), NA()) -> #REF! | E36: =IF(ROUND(VALUE(SUBSTITUTE(#REF!,"▲", "-")), 2) >= 0, ABS(ROUND(VALUE(SUBSTITUTE(#REF!,"▲", "-")), 2)), NA()) -> #REF! | F36: =IF(ROUND(VALUE(SUBSTITUTE(#REF!,"▲", "-")), 2) < 0, ABS(ROUND(VALUE(SUBSTITUTE(#REF!,"▲", "-")), 2)), NA()) -> #REF! | G36: =IF(ROUND(VALUE(SUBSTITUTE(#REF!,"▲", "-")), 2) >= 0, ABS(ROUND(VALUE(SUBSTITUTE(#REF!,"▲", "-")), 2)), NA()) -> #REF! | H36: =IF(ROUND(VALUE(SUBSTITUTE(#REF!,"▲", "-")), 2) < 0, ABS(ROUND(VALUE(SUBSTITUTE(#REF!,"▲", "-")), 2)), NA()) -> #REF! | I36: =IF(ROUND(VALUE(SUBSTITUTE(#REF!,"▲", "-")), 2) >= 0, ABS(ROUND(VALUE(SUBSTITUTE(#REF!,"▲", "-")), 2)), NA()) -> #REF! | J36: =IF(ROUND(VALUE(SUBSTITUTE(#REF!,"▲", "-")), 2) < 0, ABS(ROUND(VALUE(SUBSTITUTE(#REF!,"▲", "-")), 2)), NA()) -> #REF! | K36: =IF(ROUND(VALUE(SUBSTITUTE(#REF!,"▲", "-")), 2) >= 0, ABS(ROUND(VALUE(SUBSTITUTE(#REF!,"▲", "-")), 2)), NA()) -> #REF!
A39: 実質公債費比率（分子）の構造
B40: =#REF! -> #REF! | E40: =#REF! -> #REF! | H40: =#REF! -> #REF! | K40: =#REF! -> #REF! | N40: =#REF! -> #REF!
B41: 元利償還金等 | D41: 算入公債費等 | E41: 元利償還金等 | G41: 算入公債費等 | H41: 元利償還金等 | J41: 算入公債費等 | K41: 元利償還金等 | M41: 算入公債費等 | N41: 元利償還金等 | P41: 算入公債費等
A42: 算入公債費等 | D42: =#REF! -> #REF! | G42: =#REF! -> #REF! | J42: =#REF! -> #REF! | M42: =#REF! -> #REF! | P42: =#REF! -> #REF!
A43: 一時借入金の利子 | B43: =#REF! -> #REF! | E43: =#REF! -> #REF! | H43: =#REF! -> #REF! | K43: =#REF! -> #REF! | N43: =#REF! -> #REF!
A44: 債務負担行為に基づく支出額 | B44: =#REF! -> #REF! | E44: =#REF! -> #REF! | H44: =#REF! -> #REF! | K44: =#REF! -> #REF! | N44: =#REF! -> #REF!
A45: 組合等が起こした地方債の元利償還金に対する負担金等 | B45: =#REF! -> #REF! | E45: =#REF! -> #REF! | H45: =#REF! -> #REF! | K45: =#REF! -> #REF! | N45: =#REF! -> #REF!
A46: 公営企業債の元利償還金に対する繰入金 | B46: =#REF! -> #REF! | E46: =#REF! -> #REF! | H46: =#REF! -> #REF! | K46: =#REF! -> #REF! | N46: =#REF! -> #REF!
A47: 満期一括償還地方債に係る年度割相当額 | B47: =#REF! -> #REF! | E47: =#REF! -> #REF! | H47: =#REF! -> #REF! | K47: =#REF! -> #REF! | N47: =#REF! -> #REF!
...
