Workbook
Name _____xlnm.Print_Area: 精算額内訳!$A$1:$N$16
Name ブロック: #REF!
Name 医療提供体制施設整備交付金: #REF!
Name 医療提供体制施設整備補助金: #REF!
Name 完了日: #REF!
Name 完了予定日: #REF!
Name 繰越完了予定日: #REF!
Name 繰越申請日: #REF!
Name 繰越申請文書番号: #REF!
Name 計画名: #REF!
Name 交付決定額: #REF!
Name 交付申請額: #REF!
Name 交付申請日: #REF!
Name 交付申請文書番号: #REF!
Name 事業名: #REF!
Name 実績報告日: #REF!
Name 実績報告文書番号: #REF!
Name 出来高: #REF!
Name 所在地: #REF!
Name 申請者: #REF!
Name 申請年度: #REF!
Name 精算額: #REF!
Name 代表者職氏名: #REF!
Name 地域医療介護総合確保基金: #REF!
Name 着手日: #REF!
Name 着手予定日: #REF!
Name 鉄筋コンクリート: #REF!
Name 病床確保料: #REF!
Name 木造: #REF!
Name 郵便番号: #REF!

Sheet 実績報告書
A1: （第２号様式）
AB2: 番 号
AB3: 令和 年 月 日
A5: 石川県知事 | I5: あて
W7: （〒 | AB7: - | AG7: )
V8: （法人所在地）
V9: （法 人 名）
V10: （代表者職氏名）
A12: 石川県介護事業所等及び介護施設等に対するサービス継続支援事業補助金
A13: 実績報告書
A15: 令和 | E15: 年 | G15: 月 | I15: 日付け長第 | T15: により補助金交付決定の通知があった
A16: 標記事業を下記のとおり実施したので、石川県補助金交付規則及び石川県介護事業所等及び
A17: 介護施設等に対するサービス継続支援事業補助金交付要綱の規定により関係書類を添えて
A18: 報告します。
J20: 補助対象経費： | Q20: =精算額内訳!E11 -> 0 | Y20: 円
J21: 交付決定額 ： | Q21: =精算額内訳!G11 -> 0 | Y21: 円
J22: 精算請求額 ： | Q22: =精算額内訳!J11 -> 0 | Y22: 円
B24: （精算額内訳）
C25: 1．介護事業所等に対するサービス継続支援事業 | X25: =精算額内訳!J12 -> 0 | AC25: 円
C26: 2．介護施設等に対するサービス継続支援事業 | X26: =精算額内訳!J13 -> 0 | AC26: 円
A28: 記
B30: １ 事業の目的 | K30: 石川県介護事業所等及び介護施設等に対するサービス継続支援事業
B32: ２ 事業実施期間 | K32: 着手日 令和 | T32: 年 | W32: 月 | Z32: 日
K33: 完了日 令和 | T33: 年 | W33: 月 | Z33: 日
B35: （添付書類）
B36: １ 石川県介護事業所等及び介護施設等に対するサービス継続支援事業補助金精算額内
D37: 訳書（様式６）
B38: ２ 事業所・施設別精算額一覧（様式７）
B39: ３ 介護事業所等及び介護施設等に対するサービス継続支援事業に関する事業実績報告書
D40: （事業所単位）（様式８）
B41: ４ 収支決算書（様式９）
B42: ５ 領収書等の写し（複数の事業所を１つの領収書等にまとめる場合は、事業所ごとの内
D43: 訳の記載があるもの。ただし、光熱水費や食材料費に係る委託料など、支払時期の都合により
D44: 支払いが間に合わない場合は請求書の写しでも可。）
V47: 【報告内容に関する問い合わせ先】
V48: 法人所在地
V49: 部署名
V50: 担当者氏名
V51: 連絡先 | Z51: 電話番号
Z52: e-mail

Sheet 精算額内訳
A1: （様式６）
A2: 石川県介護事業所等及び介護施設等に対するサービス継続支援事業補助金精算額内訳書
F4: 法人名 | G4: =実績報告書!W9 -> 0
J6: （単位：円）
A7: 事業名 | D7: 総事業費 | E7: 左のうち 補助対象経費 | F7: 寄付金 その他収入 | G7: 交付決定額 | H7: 精算額 | I7: 補助金 受入済額 | J7: 補助金 精算請求額
D10: A | E10: B | F10: Ｃ | G10: D | H10: E | I10: E | J10: F
A11: 石川県介護事業所等及び介護施設等に対するサービス継続支援事業 | D11: =SUM(D12:D13) -> 0 | E11: =SUM(E12:E13) -> 0 | F11: =SUM(F12:F13) -> 0 | G11: =SUM(G12:G13) -> 0 | H11: =SUM(H12:H13) -> 0 | I11: =SUM(I12:I13) -> 0 | J11: =SUM(J12:J13) -> 0
C12: １．介護事業所等に対するサービス継続支援事業 | D12: =精算額一覧!G22 -> 0 | E12: =精算額一覧!J22 -> 0 | G12: =精算額一覧!M22 -> 0 | H12: =ROUNDDOWN(MIN(E12-F12,G12),-3) -> 0 | J12: =H12-I12 -> 0
C13: ２．介護施設等に対するサービス継続支援事業 | D13: =精算額一覧!H22 -> 0 | E13: =精算額一覧!K22 -> 0 | G13: =精算額一覧!N22 -> 0 | H13: =ROUNDDOWN(MIN(E13-F13,G13),-3) -> 0 | J13: =H13-I13 -> 0

Sheet 精算額一覧
A1: （様式７）事業所・施設別精算額一覧
B3: 法人名 | C3: =実績報告書!W9 -> 0
A5: No. | B5: 事業所・施設名 | C5: 介護保険 事業所番号 | D5: サービス種別 | E5: 電話番号 | F5: 所在地 | G5: 総事業費（円） | J5: 左のうち、補助対象経費（円） | M5: 交付決定額（円） | P5: 補助金精算額（円） | S5: 審査 結果
G6: 介護事業所等に対するサービス継続支援事業 | H6: 介護施設等に対するサービス継続支援事業 | I6: 合計 | J6: 介護事業所等に対するサービス継続支援事業 | K6: 介護施設等に対するサービス継続支援事業 | L6: 合計 | M6: 介護事業所等に対するサービス継続支援事業 | N6: 介護施設等に対するサービス継続支援事業 | O6: 合計 | P6: 介護事業所等に対するサービス継続支援事業 | Q6: 介護施設等に対するサービス継続支援事業 | R6: 合計
A7: 1 | I7: =SUM(G7:H7) -> 0 | L7: =SUM(J7:K7) -> 0 | O7: =SUM(M7:N7) -> 0 | R7: =SUM(P7,Q7) -> 0
A8: 2 | I8: =SUM(G8:H8) -> 0 | L8: =SUM(J8:K8) -> 0 | O8: =SUM(M8:N8) -> 0 | R8: =SUM(P8,Q8) -> 0
A9: 3 | I9: =SUM(G9:H9) -> 0 | L9: =SUM(J9:K9) -> 0 | O9: =SUM(M9:N9) -> 0 | R9: =SUM(P9,Q9) -> 0
A10: 4 | I10: =SUM(G10:H10) -> 0 | L10: =SUM(J10:K10) -> 0 | O10: =SUM(M10:N10) -> 0 | R10: =SUM(P10,Q10) -> 0
A11: 5 | I11: =SUM(G11:H11) -> 0 | L11: =SUM(J11:K11) -> 0 | O11: =SUM(M11:N11) -> 0 | R11: =SUM(P11,Q11) -> 0
A12: 6 | I12: =SUM(G12:H12) -> 0 | L12: =SUM(J12:K12) -> 0 | O12: =SUM(M12:N12) -> 0 | R12: =SUM(P12,Q12) -> 0
A13: 7 | I13: =SUM(G13:H13) -> 0 | L13: =SUM(J13:K13) -> 0 | O13: =SUM(M13:N13) -> 0 | R13: =SUM(P13,Q13) -> 0
A14: 8 | I14: =SUM(G14:H14) -> 0 | L14: =SUM(J14:K14) -> 0 | O14: =SUM(M14:N14) -> 0 | R14: =SUM(P14,Q14) -> 0
A15: 9 | I15: =SUM(G15:H15) -> 0 | L15: =SUM(J15:K15) -> 0 | O15: =SUM(M15:N15) -> 0 | R15: =SUM(P15,Q15) -> 0
A16: 10 | I16: =SUM(G16:H16) -> 0 | L16: =SUM(J16:K16) -> 0 | O16: =SUM(M16:N16) -> 0 | R16: =SUM(P16,Q16) -> 0
A17: 11 | I17: =SUM(G17:H17) -> 0 | L17: =SUM(J17:K17) -> 0 | O17: =SUM(M17:N17) -> 0 | R17: =SUM(P17,Q17) -> 0
A18: 12 | I18: =SUM(G18:H18) -> 0 | L18: =SUM(J18:K18) -> 0 | O18: =SUM(M18:N18) -> 0 | R18: =SUM(P18,Q18) -> 0
... A21: 15 | I21: =SUM(G21:H21) -> 0 | L21: =SUM(J21:K21) -> 0 | O21: =SUM(M21:N21) -> 0 | R21: =SUM(P21,Q21) -> 0
F22: 合計 | G22: =SUM(G7:G21) -> 0 | H22: =SUM(H7:H21) -> 0 | I22: =SUM(I7:I21) -> 0 | J22: =SUM(J7:J21) -> 0 | K22: =SUM(K7:K21) -> 0 | L22: =SUM(L7:L21) -> 0 | M22: =SUM(M7:M21) -> 0 | N22: =SUM(N7:N21) -> 0 | ... R22: =SUM(R7:R21) -> 0

Sheet 個票
A1: （様式８）
A3: 介護事業所等及び介護施設等に対するサービス継続支援事業に関する事業実績報告書（事業所単位）
A5: 施設概要
A7: 介護保険事業所番号 | O7: 事業所名称
A8: 所在地 | D8: 都道府県名 | H8: 住所 | T8: 連絡先 | W8: 電話番号 | AG8: 担当部署名
A10: 提供サービス（プルダウンから選択） | AG10: 定員 | AL10: 人
A11: 事業区分 | J11: 介護事業所等に対するサービス継続支援事業 | Z11: 介護施設等に対するサービス継続支援事業
A13: 報告にあたっての確認事項
A15: 領収書、レシート等の証拠書類は事業所等において適切に保管している。
A16: 交付決定日以降に事業実施（設備備品・食材料費等の購入等）している。
A18: 実績額
A20: １．介護事業所等に対するサービス継続支援事業 | AD20: 交付決定額 | AI20: 精算額(1)+(2)
AG21: 円 | AI21: =MIN(AD21,ROUNDDOWN((H29+H38)/1,0)) -> 0 | AL21: 円
A22: 【(1)介護サービスを円滑に継続するための対応】
A23: 科目 | H23: 実績額（円） | M23: 用途・品目・数量等
A24: 需用費
A25: 役務費
A26: 委託料
A27: 使用料及び賃借料
A28: 備品購入費
A29: 合計 | H29: =SUM(H24:L28) -> 0 | M29: ※税抜きの金額を記載してください
A31: 【(2)災害備蓄等への対応】
A32: 科目 | H32: 実績額（円） | M32: 用途・品目・数量等
A33: 需用費
A34: 役務費
A35: 委託料
A36: 使用料及び賃借料
A37: 備品購入費
A38: 合計 | H38: =SUM(H33:L37) -> 0 | M38: ※税抜きの金額を記載してください
A40: ２．介護施設等に対するサービス継続支援事業 | AD40: 交付決定額 | AI40: 精算額
AG41: 円 | AI41: =IF(AD41="","",MIN(AD41,ROUNDDOWN(H49/1,0))) | AL41: 円
A43: 科目 | H43: 実績額（円） | M43: 用途・品目・数量等
A44: 需用費
A45: 役務費
A46: 委託料
A47: 使用料及び賃借料
A48: 備品購入費
A49: 合計 | H49: =SUM(H44:L48) -> 0 | M49: ※税抜きの金額を記載してください
A51: （注）精算額は、交付決定額と実績額を比較していずれか低い方の額が入力される。

Sheet 収支決算書
B1: （様式９）
B2: 収支決算書 | E2: ※法人ごと
B4: （収入） | D4: （単位：円）
B5: 科 目 | C5: 金 額 | D5: 摘 要
B6: 石川県補助金
B7: 自己資金
B8: その他
B14: 計 | C14: =SUM(C6:C8) -> 0
B16: （支出）
B17: 科 目 | C17: 金 額 | D17: 摘 要
B27: 計 | C27: =SUM(C18:C26) -> 0
B29: 上記について、相違ないことを証明します。
B31: =実績報告書!AB3 -> 令和 年 月 日
C32: 法人名 | D32: =実績報告書!W9 -> 0
C33: 代表者職氏名 | D33: =実績報告書!W10 -> 0 | F33: ←押印は不要です。

Sheet 単価表
A1: 別添 | C1: 新型コロナウイルス感染症緊急包括支援事業（介護分）
A2: 基準単価（単位：千円、１事業所又は１定員当たり） | I2: （１）②ⅰ今後に備えた都道府県における消毒液・マスク等の備蓄
G3: （１）① 感染症対策を徹底した上での介護サービス提供支援事業
C4: 助成対象 事業所・施設等の種別（※１） | G4: 令和２年４月１日以降、感染症を対策を徹底した上で、介護サービス提供を行うために必要なかかり増し経費が発生した介護サービス事業所・施設等（１～２８）（※２）
C5: 通所系 | D5: 1 | E5: 通所介護事業所 | F5: 通常規模型 | G5: 653 | H5: /事業所
D6: 2 | F6: 大規模型（Ⅰ） | G6: 831 | H6: /事業所
D7: 3 | F7: 大規模型（Ⅱ） | G7: 1075 | H7: /事業所
D8: 4 | E8: 地域密着型通所介護事業所（療養通所介護事業所を含む） | G8: 305 | H8: /事業所
D9: 5 | E9: 認知症対応型通所介護事業所 | G9: 340 | H9: /事業所
D10: 6 | E10: 通所リハビリテーション事業所 | F10: 通常規模型 | G10: 642 | H10: /事業所
D11: 7 | F11: 大規模型（Ⅰ） | G11: 776 | H11: /事業所
D12: 8 | F12: 大規模型（Ⅱ） | G12: 1272 | H12: /事業所
C13: 短期入所系 | D13: 9 | E13: 短期入所生活介護事業所、短期入所療養介護事業所 | G13: 44 | H13: /定員
C14: 訪問系 | D14: 10 | E14: 訪問介護事業所 | G14: 500 | H14: /事業所
D15: 11 | E15: 訪問入浴介護事業所 | G15: 431 | H15: /事業所
D16: 12 | E16: 訪問看護事業所 | G16: 464 | H16: /事業所
D17: 13 | E17: 訪問リハビリテーション事業所 | G17: 153 | H17: /事業所
D18: 14 | E18: 定期巡回・随時対応型訪問介護看護事業所 | G18: 1002 | H18: /事業所
D19: 15 | E19: 夜間対応型訪問介護事業所 | G19: 573 | H19: /事業所
D20: 16 | E20: 居宅介護支援事業所 | G20: 227 | H20: /事業所
D21: 17 | E21: 福祉用具貸与事業所 | G21: 252 | H21: /事業所
D22: 18 | E22: 居宅療養管理指導事業所 | G22: 82 | H22: /事業所
C23: 多機能型 | D23: 19 | E23: 小規模多機能型居宅介護事業所 | G23: 637 | H23: /事業所
D24: 20 | E24: 看護小規模多機能型居宅介護事業所 | G24: 873 | H24: /事業所
C25: 入所施設・ 居住系 | D25: 21 | E25: 介護老人福祉施設 | G25: 40 | H25: /定員
D26: 22 | E26: 地域密着型介護老人福祉施設 | G26: 48 | H26: /定員
D27: 23 | E27: 介護老人保健施設 | G27: 39 | H27: /定員
D28: 24 | E28: 介護医療院 | G28: 48 | H28: /定員
D29: 25 | E29: 介護療養型医療施設 | G29: 43 | H29: /定員
D30: 26 | E30: 認知症対応型共同生活介護事業所 | G30: 48 | H30: /定員
D31: 27 | E31: 養護老人ホーム、軽費老人ホーム、有料老人ホーム、サービス付き高齢者向け住宅（定員30人以上） | G31: 37 | H31: /定員
D32: 28 | E32: 養護老人ホーム、軽費老人ホーム、有料老人ホーム、サービス付き高齢者向け住宅（定員29人以下） | G32: 37 | H32: /定員
A33: 対象経費（※３） | G33: a 感染症対策に要する衛生用品等の物品購入 b 外部専門家等による研修実施 c （研修受講等に要する）旅費・宿泊費等 d 感染発生時対応・衛生用品補完等に柔軟に使える多機能型簡易居室の設置等 e 感染防止を徹底するための面会室の改修費 f 消毒・清掃費用 g 職員が勤務時間外に消毒・清掃等を行った場合の超過勤務手当や休日勤務手当等の割増賃金や、通常想定していない感染症対策に関する業務の実施に伴う手当など、法人（施設）の給与規程等に基づき職員に支払われる手当等のほか、非常勤職員を雇上した場合の賃金【P】 h 感染防止のための増員のため発生する追加的人件費 i 感染防止のための増員等、応援職員に係る職業紹介手数料 j 自動車車の購入又はリース費用 k 自転車の購入又はリース費用 l タブレット等のＩＣＴ機器の購入又はリース費用（通信費用は除く） m 普段と異なる場所でのサービスを実施する際の、賃料・物品の使用料 n 普段と異なる場所でのサービスを実施する際の職員の交通費、利用者の送迎に係る費用 o 訪問介護員による同行指導への謝金
A34: 助成額 | G34: ・事業所・施設ごとに、基準単価と対象経費の実支出額とを比較して少ない方の額を助成額とする。なお、1,000円未満の端数が生じた場合には、これを切り捨てるものとする。 ・また、１事業所・施設当たり上限額に達するまで助成することができる。 ・１事業所・施設に（１）①と（２）①・②の両方を助成することができる。
A35: ※１ 事業所・施設等について、助成の申請時点で指定等を受けている者であり、また
A36: ・ 各介護予防サービスを含むが、介護サービスと介護予防サービスの両方の指定を受けている場合は、１つの事業所・施設として取扱う。
A37: ・ 介護予防・日常生活支援総合事業（指定サービス・介護予防ケアマネジメント）を実施する事業所は、通所型は通所介護事業所（通常規模型）と、訪問型は訪問介護事業所と、
B38: 介護予防ケアマネジメントは居宅介護支援事業所と同じとするが、介護サービスと総合事業の両方の指定を受けている場合は、１つの事業所として取扱う。
A39: ・ 通所介護及び通所リハビリテーションの事業所規模は、介護報酬上の規模区分であり、助成の申請時点で判断すること。
A40: ※２ 利用者又は職員に感染者が発生しているか否かは問わない
...

Sheet リスト
B1: 事業所・施設等の種別
A2: 1 | B2: 訪問介護事業所 集合住宅併設型（同一建物減算の算定がある事業所） | C2: 200000 | D2: /事業所
A3: 2 | B3: 訪問介護事業所 上記以外であって、1月あたり延べ訪問回数200回以下 | C3: 300000 | D3: /事業所
A4: 3 | B4: 訪問介護事業所 上記以外であって、1月あたり延べ訪問回数201回以上2,000回以下 | C4: 400000 | D4: /事業所
A5: 4 | B5: 訪問介護事業所 上記以外であって、1月あたり延べ訪問回数2,001回以上 | C5: 500000 | D5: /事業所
A6: 5 | B6: 訪問入浴介護事業所 | C6: 200000 | D6: /事業所
A7: 6 | B7: 訪問看護事業所 | C7: 200000 | D7: /事業所
A8: 7 | B8: 訪問リハビリテーション事業所 | C8: 200000 | D8: /事業所
A9: 8 | B9: 通所介護事業所 1月あたり延べ利用者数300人以下 | C9: 200000 | D9: /事業所
A10: 9 | B10: 通所介護事業所 1月あたり延べ利用者数301人以上600人以下 | C10: 300000 | D10: /定員
A11: 10 | B11: 通所介護事業所 1月あたり延べ利用者数601人以上 | C11: 400000 | D11: /定員
A12: 11 | B12: 通所リハビリテーション事業所 | C12: 200000 | D12: /事業所
A13: 12 | B13: 特定施設入居者生活介護（養護老人ホーム、軽費老人ホームを除く） | C13: 200000 | D13: /事業所
... A23: 22 | B23: 居宅介護支援事業所 | C23: 200000 | D23: /事業所
A24: 23 | B24: 介護老人福祉施設 | C24: 6000 | D24: /定員 | E24: 18000 | F24: /定員
A25: 24 | B25: 介護老人保健施設 | C25: 6000 | D25: /定員 | E25: 18000 | F25: /定員
A26: 25 | B26: 介護医療院 | C26: 6000 | D26: /定員 | E26: 18000 | F26: /定員
A27: 26 | B27: 地域密着型介護老人福祉施設 | C27: 6000 | D27: /定員 | E27: 18000 | F27: /定員
A28: 27 | B28: 短期入所生活介護事業所 | C28: 6000 | D28: /定員 | E28: 18000 | F28: /定員
A29: 28 | B29: 養護老人ホーム | C29: 6000 | D29: /定員 | E29: 18000 | F29: /定員
A30: 29 | B30: 軽費老人ホーム | C30: 6000 | D30: /定員 | E30: 18000 | F30: /定員
B32: 北海道
B33: 青森県
B34: 岩手県
B35: 宮城県
B36: 秋田県
B37: 山形県
B38: 福島県
B39: 茨城県
B40: 栃木県
B41: 群馬県
B42: 埼玉県
B43: 千葉県
... B78: 沖縄県
