Workbook
Name _____xlnm.Print_Area: 交付申請内訳!$A$1:$N$16
Name ブロック: #REF!
Name 医療提供体制施設整備交付金: #REF!
Name 医療提供体制施設整備補助金: #REF!
Name 完了日: #REF!
Name 完了予定日: #REF!
Name 繰越完了予定日: #REF!
Name 繰越申請日: #REF!
Name 繰越申請文書番号: #REF!
Name 計画名: #REF!
Name 交付決定額: #REF!
Name 交付申請額: #REF!
Name 交付申請日: #REF!
Name 交付申請文書番号: #REF!
Name 事業名: #REF!
Name 実績報告日: #REF!
Name 実績報告文書番号: #REF!
Name 出来高: #REF!
Name 所在地: #REF!
Name 申請者: #REF!
Name 申請年度: #REF!
Name 精算額: #REF!
Name 代表者職氏名: #REF!
Name 地域医療介護総合確保基金: #REF!
Name 着手日: #REF!
Name 着手予定日: #REF!
Name 鉄筋コンクリート: #REF!
Name 病床確保料: #REF!
Name 木造: #REF!
Name 郵便番号: #REF!

Sheet (はじめにお読み下さい)申請書の使い方
A2: 本申請書の使い方、申請の手順
A4: 手順 | B4: 都道府県の作業 | C4: 事業者（法人本部）の作業 | D4: 各事業所の作業
A5: 1 | B5: 本Excelを管内の介護サービス事業者に配布
A6: =A5+1 -> 2 | C6: 本Excelを各事業所に配布し、以下の様式への記入を依頼 ・様式２（個票）
A7: =A6+1 -> 3 | D7: 以下の作業を行った上で、事業者（法人本部）へ返送 【様式２（個票）】 ・水色セル：必要情報を入力 ・緑色セル：プルダウンから選択
A8: =A7+1 -> 4 | C8: 各事業所の個票のシートを１つのExcelファイルに集約し、個票シート名を「個票●」（●は１からの通し番号）に修正
A9: =A8+1 -> 5 | C9: 様式２（個票）の内容が、様式１（申請額一覧）に正しく反映されていることを確認 ※15事業所以上ある場合には6行目～15行目を行ごとコピーし、16行目に右クリック→「コピーしたセルの挿入」で挿入すること。
A10: =A9+1 -> 6 | C10: 申請書に、申請者の法人名、代表者名、日付を入力
A11: =A10+1 -> 7 | C11: 完成したExcelファイルを都道府県（都道府県が受付業務を民間事業者に委託する場合は、各都道府県の委託事業者）に送付
A12: =A11+1 -> 8 | B12: 事業者からExcelファイルを受領し、内容を審査 ※都道府県が受付業務を民間事業者に委託する場合は、委託事業者を通じて都道府県に送付
A13: =A12+1 -> 9 | B13: 都道府県等内で必要な作業を行い、事業者に補助金を交付

Sheet 変更承認申請書
A1: （第３号様式）
AB2: 番 号
AB3: 令和 年 月 日
AN4: ※変更申請の場合はこちらのシートを記載してください。
A5: 石川県知事 | I5: あて
W7: （〒 | AB7: - | AG7: )
V8: （法人所在地）
V9: （法 人 名）
V10: （代表者職氏名）
A12: 石川県介護事業所等及び介護施設等に対するサービス継続支援事業補助金
A13: 変更承認申請書
A15: 令和 | E15: 年 | H15: 月 | K15: 日付長第 | T15: により補助金交付決定の通知があった標記事業
A16: を下記のとおり実施したので、石川県補助金交付規則及び石川県介護事業所等及び介護施設等
A17: に対するサービス継続支援事業補助金交付要綱の規定により関係書類を添えて報告します。
A19: 記
B21: １ 変更の理由
B23: ２ 補助金額 | I23: 変更前の額 | AA23: 円
I24: 変更後の額 | AA24: 円
I25: 差引 | L25: 追加 | O25: 申請額 | AA25: 円
L26: 減額
B29: ３ 変更の内容 別紙のとおり
V32: 【申請内容に関する問い合わせ先】
V33: 法人所在地
V34: 部署名
V35: 担当者氏名
V36: 連絡先 | Z36: 電話番号
Z37: e-mail

Sheet 〔中止・廃止〕承認申請書
A1: （第４号様式）
AB2: 番 号
AB3: 46279
AN4: ※中止・廃止の場合はこちらのシートを記載してください。
A5: 石川県知事 | I5: あて
W7: （〒 | Y7: 111 | AB7: - | AC7: 2222 | AG7: )
V8: （法人所在地） | W8: 石川県○○市●●町×番地
V9: （法 人 名） | W9: 社会福祉法人 ○○
V10: （代表者職氏名） | W10: 理事長 ○○
A12: 石川県介護事業所等及び介護施設等に対するサービス継続支援事業補助金
A13: 〔中止・廃止〕承認申請書
A15: 令和 | D15: 8 | E15: 年 | F15: 8 | H15: 月 | I15: 24 | K15: 日付長第 | O15: ○○ | T15: により補助金交付決定の通知があった標記事業
A16: を下記のとおり〔中止・廃止〕したいので、承認されたく、石川県補助金交付規則及び石川
A17: 県介護事業所等及び介護施設等に対するサービス継続支援事業補助金交付要綱の規定により
A18: 申請します。
A20: 記
B22: １ 〔中止・廃止〕の理由 | N22: 事業の遂行が困難となったため。
B24: ２ 補助金額 | I24: 変更前の額 | R24: 2400000 | AA24: 円
I25: 変更後の額 | R25: 0 | AA25: 円
I26: 差引 | L26: 追加 | O26: 申請額 | R26: 2400000 | AA26: 円
L27: 減額
B30: ３ 〔中止・廃止〕の内容 別紙のとおり
V33: 【申請内容に関する問い合わせ先】
V34: 法人所在地 | AD34: 石川県○○市●●町×番地
V35: 部署名 | AD35: ○○課
V36: 担当者氏名 | AD36: 石川 太郎
V37: 連絡先 | Z37: 電話番号 | AD37: 000-111-2222
Z38: e-mail | AD38: ○○○

Sheet 交付申請内訳
A1: （様式１）
A2: 石川県介護事業所等及び介護施設等に対するサービス継続支援事業補助金申請額内訳書
E4: 法人名 | F4: =IF(変更承認申請書!W9<>"",変更承認申請書!W9,〔中止・廃止〕承認申請書!W9) -> 社会福祉法人 ○○ | I4: ※変更申請の場合は、変更後の金額を記入してください。 中止・廃止の場合は、申請時の金額を記入してください。
H6: （単位：円）
A7: 事業名 | D7: 総事業費 | E7: 左のうち 補助対象経費 | F7: 補助申請額 | G7: 寄付金 その他収入 | H7: 実際の申請額
D10: Ａ | E10: Ｂ | F10: C | G10: D | H10: E
A11: 石川県介護事業所等及び介護施設等に対するサービス継続支援事業 | D11: =SUM(D12:D13) -> 2400000 | E11: =SUM(E12:E13) -> 2400000 | F11: =SUM(F12:F13) -> 2400000 | G11: =SUM(G12:G13) -> 0 | H11: =SUM(H12:H13) -> 2400000
C12: １．介護事業所等に対するサービス継続支援事業 | D12: =申請額一覧!H22 -> 600000 | E12: =申請額一覧!K22 -> 600000 | F12: =申請額一覧!N22 -> 600000 | G12: 0 | H12: =F12-G12 -> 600000
C13: ２．介護施設等に対するサービス継続支援事業 | D13: =申請額一覧!I22 -> 1800000 | E13: =申請額一覧!L22 -> 1800000 | F13: =申請額一覧!O22 -> 1800000 | G13: 0 | H13: =F13-G13 -> 1800000

Sheet 申請額一覧
A1: （様式２）事業所・施設別申請額一覧
B3: 法人名 | C3: =IF(変更承認申請書!W9<>"",変更承認申請書!W9,〔中止・廃止〕承認申請書!W9) -> 社会福祉法人 ○○ | R3: ※変更申請の場合は、変更後の金額を記入してください。 中止・廃止の場合は、申請時の金額を記入してください。
A5: No. | B5: 事業所・施設名 | C5: 介護保険 事業所番号 | D5: サービス種別 | E5: 電話番号 | F5: 所在地 | G5: 訪問介護・通所介護事業所で、 令和7年10月1日以降に開設した 場合は☑を入れてください。 | H5: 総事業費（円） | K5: 左のうち、補助対象経費（円） | N5: 補助申請額（円） | Q5: 審査 結果
H6: 介護事業所等に対するサービス継続支援事業 | I6: 介護施設等に対するサービス継続支援事業 | J6: 合計 | K6: 介護事業所等に対するサービス継続支援事業 | L6: 介護施設等に対するサービス継続支援事業 | M6: 合計 | N6: 介護事業所等に対するサービス継続支援事業 | O6: 介護施設等に対するサービス継続支援事業 | P6: 合計
A7: 1 | B7: ○○施設 | C7: 1111111111 | D7: 介護老人福祉施設 | E7: 000-111-2222 | F7: 石川県○○市●●町×番地 | H7: 600000 | I7: 1800000 | J7: =SUM(H7:I7) -> 2400000 | K7: 600000 | L7: 1800000 | M7: =SUM(K7:L7) -> 2400000 | N7: 600000 | O7: 1800000 | P7: =SUM(N7,O7) -> 2400000
A8: 2 | J8: =SUM(H8:I8) -> 0 | M8: =SUM(K8:L8) -> 0 | P8: =SUM(N8,O8) -> 0
A9: 3 | J9: =SUM(H9:I9) -> 0 | M9: =SUM(K9:L9) -> 0 | P9: =SUM(N9,O9) -> 0
A10: 4 | J10: =SUM(H10:I10) -> 0 | M10: =SUM(K10:L10) -> 0 | P10: =SUM(N10,O10) -> 0
A11: 5 | J11: =SUM(H11:I11) -> 0 | M11: =SUM(K11:L11) -> 0 | P11: =SUM(N11,O11) -> 0
A12: 6 | J12: =SUM(H12:I12) -> 0 | M12: =SUM(K12:L12) -> 0 | P12: =SUM(N12,O12) -> 0
A13: 7 | J13: =SUM(H13:I13) -> 0 | M13: =SUM(K13:L13) -> 0 | P13: =SUM(N13,O13) -> 0
A14: 8 | J14: =SUM(H14:I14) -> 0 | M14: =SUM(K14:L14) -> 0 | P14: =SUM(N14,O14) -> 0
A15: 9 | J15: =SUM(H15:I15) -> 0 | M15: =SUM(K15:L15) -> 0 | P15: =SUM(N15,O15) -> 0
A16: 10 | J16: =SUM(H16:I16) -> 0 | M16: =SUM(K16:L16) -> 0 | P16: =SUM(N16,O16) -> 0
A17: 11 | J17: =SUM(H17:I17) -> 0 | M17: =SUM(K17:L17) -> 0 | P17: =SUM(N17,O17) -> 0
A18: 12 | J18: =SUM(H18:I18) -> 0 | M18: =SUM(K18:L18) -> 0 | P18: =SUM(N18,O18) -> 0
A19: 13 | J19: =SUM(H19:I19) -> 0 | M19: =SUM(K19:L19) -> 0 | P19: =SUM(N19,O19) -> 0
... A21: 15 | J21: =SUM(H21:I21) -> 0 | M21: =SUM(K21:L21) -> 0 | P21: =SUM(N21,O21) -> 0
G22: 合計 | H22: =SUM(H7:H21) -> 600000 | I22: =SUM(I7:I21) -> 1800000 | J22: =SUM(J7:J21) -> 2400000 | K22: =SUM(K7:K21) -> 600000 | L22: =SUM(L7:L21) -> 1800000 | M22: =SUM(M7:M21) -> 2400000 | N22: =SUM(N7:N21) -> 600000 | O22: =SUM(O7:O21) -> 1800000 | P22: =SUM(P7:P21) -> 2400000
A24: （注）行が不足する場合には、「本申請書の使い方」に従って、行を追加すること。列の挿入は絶対に行わないこと。

Sheet 個票
A1: （様式３）
A3: 介護事業所等及び介護施設等に対するサービス継続支援事業に関する事業実施計画書（事業所単位） | BU3: ※変更申請の場合は、変更後の物品、金額を記入してください。 中止・廃止の場合は、申請時の物品、金額を記入してください。
A5: 施設概要
A7: 介護保険事業所番号 | H7: 1111111111 | O7: 事業所名称 | T7: ○○施設
A8: 所在地 | D8: 都道府県名 | H8: 住所 | T8: 連絡先 | W8: 電話番号 | AG8: 担当部署名
D9: 石川県 | H9: ○○市●●町×番地 | W9: 000-111-2222 | AG9: ○○課
A10: 提供サービス（プルダウンから選択） | L10: 介護老人福祉施設 | AG10: 定員 | AJ10: 100 | AL10: 人
A11: 事業区分 | J11: 介護事業所等に対するサービス継続支援事業 | Z11: 介護施設等に対するサービス継続支援事業
A13: 令和7年10月1日以降に開設した訪問介護・通所介護事業所のみ下記を記入してください。
A15: 開設年月日 | X15: 令和 | AA15: 年 | AD15: 月 | AG15: 日
A16: 1月あたりの平均訪問回数又は平均利用者数（開設日～令和8年5月31日） | AB16: 人
A18: 申請にあたっての確認事項
A20: 本事業の補助金の振込に使用する口座について、申請者（法人本部）指定する金融機関口座とすることに同意する。 | X20: ✔
A21: 補助金交付要綱第２条に規定する本事業の目的を理解し、その目的に則した設備備品等を選定していること。 | X21: ✔
A22: 介護事業所等に対するサービス継続支援事業において、単品で30万円を超える物品を対象としていないか。 | X22: ✔
A23: 領収書、レシート等の証拠書類は事業所等において適切に保管すること。 | X23: ✔
A24: 交付決定日以降に事業実施（設備備品・食材料費等の購入等）すること。 | X24: ✔
A26: 所要額
A28: １．介護事業所等に対するサービス継続支援事業 | AD28: 補助上限額 | AI28: 申請額(1)+(2)
AD29: =IFERROR(VLOOKUP(L10,リスト!B2:D23,2,FALSE),IFERROR(VLOOKUP(L10,リスト!B24:D30,2,FALSE)*AJ10,"")) -> 600000 | AG29: 円 | AI29: =MIN(AD29,ROUNDDOWN((H37+H46)/1,0)) -> 600000 | AL29: 円
A30: 【(1)介護サービスを円滑に継続するための対応】
A31: 科目 | H31: 所要額（円） | M31: 用途・品目・数量等
A32: 需用費 | H32: 400000 | M32: 〇〇〇〇20個、△△△△10個、××××10個
A33: 役務費
A34: 委託料
A35: 使用料及び賃借料
A36: 備品購入費
A37: 合計 | H37: =SUM(H32:L36) -> 400000 | M37: ※税抜きの金額を記載してください
A39: 【(2)災害備蓄等への対応】
A40: 科目 | H40: 所要額（円） | M40: 用途・品目・数量等
A41: 需用費 | H41: 200000 | M41: ●●●●２個
A42: 役務費
A43: 委託料
A44: 使用料及び賃借料
A45: 備品購入費
A46: 合計 | H46: =SUM(H41:L45) -> 200000 | M46: ※税抜きの金額を記載してください
A48: ２．介護施設等に対するサービス継続支援事業 | AD48: 補助上限額 | AI48: 申請額
AD49: =IFERROR(VLOOKUP(L10,リスト!B24:E30,4,FALSE)*AJ10,"") -> 1800000 | AG49: 円 | AI49: =IF(AD49="","",MIN(AD49,ROUNDDOWN(H57/1,0))) -> 1800000 | AL49: 円
A51: 科目 | H51: 所要額（円） | M51: 用途・品目・数量等
A52: 需用費 | H52: 1200000 | M52: 食材費○名分
...

Sheet 収支予算書
B1: （様式４）
B2: 収支予算（見込）書 | E2: ※変更申請の場合は、変更後の金額を記入してください。 中止・廃止の場合は、申請時の金額を記入してください。
B4: （収入） | D4: （単位：円）
B5: 科 目 | C5: 金 額 | D5: 摘 要
B6: 石川県補助金 | C6: 2400000
B7: 自己資金 | C7: 0
B8: その他
B14: 計 | C14: =SUM(C6:C8) -> 2400000
B16: （支出）
B17: 科 目 | C17: 金 額 | D17: 摘 要
B18: 〇〇〇〇20個、△△△△10個、 ××××10個 | C18: 400000
B19: ●●●●２個 | C19: 200000
B20: 食材費○名分 | C20: 1200000
B21: 調理委託料 | C21: 600000
B27: 計 | C27: =SUM(C18:C26) -> 2400000
B29: 上記について、相違ないことを証明します。
B31: 46279
C32: 法人名 | D32: =IF(変更承認申請書!W9<>"",変更承認申請書!W9,〔中止・廃止〕承認申請書!W9) -> 社会福祉法人 ○○
C33: 代表者職氏名 | D33: =IF(変更承認申請書!W10<>"",変更承認申請書!W10,〔中止・廃止〕承認申請書!W10) -> 理事長 ○○ | F33: ←押印は不要です。

Sheet 単価表
A1: 別添 | C1: 新型コロナウイルス感染症緊急包括支援事業（介護分）
A2: 基準単価（単位：千円、１事業所又は１定員当たり） | I2: （１）②ⅰ今後に備えた都道府県における消毒液・マスク等の備蓄
G3: （１）① 感染症対策を徹底した上での介護サービス提供支援事業
C4: 助成対象 事業所・施設等の種別（※１） | G4: 令和２年４月１日以降、感染症を対策を徹底した上で、介護サービス提供を行うために必要なかかり増し経費が発生した介護サービス事業所・施設等（１～２８）（※２）
C5: 通所系 | D5: 1 | E5: 通所介護事業所 | F5: 通常規模型 | G5: 653 | H5: /事業所
D6: 2 | F6: 大規模型（Ⅰ） | G6: 831 | H6: /事業所
D7: 3 | F7: 大規模型（Ⅱ） | G7: 1075 | H7: /事業所
D8: 4 | E8: 地域密着型通所介護事業所（療養通所介護事業所を含む） | G8: 305 | H8: /事業所
D9: 5 | E9: 認知症対応型通所介護事業所 | G9: 340 | H9: /事業所
D10: 6 | E10: 通所リハビリテーション事業所 | F10: 通常規模型 | G10: 642 | H10: /事業所
D11: 7 | F11: 大規模型（Ⅰ） | G11: 776 | H11: /事業所
D12: 8 | F12: 大規模型（Ⅱ） | G12: 1272 | H12: /事業所
C13: 短期入所系 | D13: 9 | E13: 短期入所生活介護事業所、短期入所療養介護事業所 | G13: 44 | H13: /定員
C14: 訪問系 | D14: 10 | E14: 訪問介護事業所 | G14: 500 | H14: /事業所
D15: 11 | E15: 訪問入浴介護事業所 | G15: 431 | H15: /事業所
D16: 12 | E16: 訪問看護事業所 | G16: 464 | H16: /事業所
D17: 13 | E17: 訪問リハビリテーション事業所 | G17: 153 | H17: /事業所
D18: 14 | E18: 定期巡回・随時対応型訪問介護看護事業所 | G18: 1002 | H18: /事業所
D19: 15 | E19: 夜間対応型訪問介護事業所 | G19: 573 | H19: /事業所
D20: 16 | E20: 居宅介護支援事業所 | G20: 227 | H20: /事業所
D21: 17 | E21: 福祉用具貸与事業所 | G21: 252 | H21: /事業所
D22: 18 | E22: 居宅療養管理指導事業所 | G22: 82 | H22: /事業所
C23: 多機能型 | D23: 19 | E23: 小規模多機能型居宅介護事業所 | G23: 637 | H23: /事業所
D24: 20 | E24: 看護小規模多機能型居宅介護事業所 | G24: 873 | H24: /事業所
C25: 入所施設・ 居住系 | D25: 21 | E25: 介護老人福祉施設 | G25: 40 | H25: /定員
D26: 22 | E26: 地域密着型介護老人福祉施設 | G26: 48 | H26: /定員
D27: 23 | E27: 介護老人保健施設 | G27: 39 | H27: /定員
D28: 24 | E28: 介護医療院 | G28: 48 | H28: /定員
D29: 25 | E29: 介護療養型医療施設 | G29: 43 | H29: /定員
D30: 26 | E30: 認知症対応型共同生活介護事業所 | G30: 48 | H30: /定員
D31: 27 | E31: 養護老人ホーム、軽費老人ホーム、有料老人ホーム、サービス付き高齢者向け住宅（定員30人以上） | G31: 37 | H31: /定員
D32: 28 | E32: 養護老人ホーム、軽費老人ホーム、有料老人ホーム、サービス付き高齢者向け住宅（定員29人以下） | G32: 37 | H32: /定員
A33: 対象経費（※３） | G33: a 感染症対策に要する衛生用品等の物品購入 b 外部専門家等による研修実施 c （研修受講等に要する）旅費・宿泊費等 d 感染発生時対応・衛生用品補完等に柔軟に使える多機能型簡易居室の設置等 e 感染防止を徹底するための面会室の改修費 f 消毒・清掃費用 g 職員が勤務時間外に消毒・清掃等を行った場合の超過勤務手当や休日勤務手当等の割増賃金や、通常想定していない感染症対策に関する業務の実施に伴う手当など、法人（施設）の給与規程等に基づき職員に支払われる手当等のほか、非常勤職員を雇上した場合の賃金【P】 h 感染防止のための増員のため発生する追加的人件費 i 感染防止のための増員等、応援職員に係る職業紹介手数料 j 自動車車の購入又はリース費用 k 自転車の購入又はリース費用 l タブレット等のＩＣＴ機器の購入又はリース費用（通信費用は除く） m 普段と異なる場所でのサービスを実施する際の、賃料・物品の使用料 n 普段と異なる場所でのサービスを実施する際の職員の交通費、利用者の送迎に係る費用 o 訪問介護員による同行指導への謝金
A34: 助成額 | G34: ・事業所・施設ごとに、基準単価と対象経費の実支出額とを比較して少ない方の額を助成額とする。なお、1,000円未満の端数が生じた場合には、これを切り捨てるものとする。 ・また、１事業所・施設当たり上限額に達するまで助成することができる。 ・１事業所・施設に（１）①と（２）①・②の両方を助成することができる。
A35: ※１ 事業所・施設等について、助成の申請時点で指定等を受けている者であり、また
A36: ・ 各介護予防サービスを含むが、介護サービスと介護予防サービスの両方の指定を受けている場合は、１つの事業所・施設として取扱う。
A37: ・ 介護予防・日常生活支援総合事業（指定サービス・介護予防ケアマネジメント）を実施する事業所は、通所型は通所介護事業所（通常規模型）と、訪問型は訪問介護事業所と、
B38: 介護予防ケアマネジメントは居宅介護支援事業所と同じとするが、介護サービスと総合事業の両方の指定を受けている場合は、１つの事業所として取扱う。
A39: ・ 通所介護及び通所リハビリテーションの事業所規模は、介護報酬上の規模区分であり、助成の申請時点で判断すること。
A40: ※２ 利用者又は職員に感染者が発生しているか否かは問わない
...

Sheet リスト
B1: 事業所・施設等の種別
A2: 1 | B2: 訪問介護事業所 集合住宅併設型（同一建物減算の算定がある事業所） | C2: 200000 | D2: /事業所
A3: 2 | B3: 訪問介護事業所 上記以外であって、1月あたり延べ訪問回数200回以下 | C3: 300000 | D3: /事業所
A4: 3 | B4: 訪問介護事業所 上記以外であって、1月あたり延べ訪問回数201回以上2,000回以下 | C4: 400000 | D4: /事業所
A5: 4 | B5: 訪問介護事業所 上記以外であって、1月あたり延べ訪問回数2,001回以上 | C5: 500000 | D5: /事業所
A6: 5 | B6: 訪問入浴介護事業所 | C6: 200000 | D6: /事業所
A7: 6 | B7: 訪問看護事業所 | C7: 200000 | D7: /事業所
A8: 7 | B8: 訪問リハビリテーション事業所 | C8: 200000 | D8: /事業所
A9: 8 | B9: 通所介護事業所 1月あたり延べ利用者数300人以下 | C9: 200000 | D9: /事業所
A10: 9 | B10: 通所介護事業所 1月あたり延べ利用者数301人以上600人以下 | C10: 300000 | D10: /定員
A11: 10 | B11: 通所介護事業所 1月あたり延べ利用者数601人以上 | C11: 400000 | D11: /定員
A12: 11 | B12: 通所リハビリテーション事業所 | C12: 200000 | D12: /事業所
A13: 12 | B13: 特定施設入居者生活介護（養護老人ホーム、軽費老人ホームを除く） | C13: 200000 | D13: /事業所
... A23: 22 | B23: 居宅介護支援事業所 | C23: 200000 | D23: /事業所
A24: 23 | B24: 介護老人福祉施設 | C24: 6000 | D24: /定員 | E24: 18000 | F24: /定員
A25: 24 | B25: 介護老人保健施設 | C25: 6000 | D25: /定員 | E25: 18000 | F25: /定員
A26: 25 | B26: 介護医療院 | C26: 6000 | D26: /定員 | E26: 18000 | F26: /定員
A27: 26 | B27: 地域密着型介護老人福祉施設 | C27: 6000 | D27: /定員 | E27: 18000 | F27: /定員
A28: 27 | B28: 短期入所生活介護事業所 | C28: 6000 | D28: /定員 | E28: 18000 | F28: /定員
A29: 28 | B29: 養護老人ホーム | C29: 6000 | D29: /定員 | E29: 18000 | F29: /定員
A30: 29 | B30: 軽費老人ホーム | C30: 6000 | D30: /定員 | E30: 18000 | F30: /定員
B32: 北海道
B33: 青森県
B34: 岩手県
B35: 宮城県
B36: 秋田県
B37: 山形県
B38: 福島県
B39: 茨城県
B40: 栃木県
B41: 群馬県
B42: 埼玉県
B43: 千葉県
... B78: 沖縄県
